BEGIN:VCALENDAR
VERSION:2.0
PRODID:-//ChamberMaster//Event Calendar 2.0//EN
METHOD:PUBLISH
X-PUBLISHED-TTL:P3D
REFRESH-INTERVAL:P3D
CALSCALE:GREGORIAN
BEGIN:VEVENT
DTSTART:20200422T153000Z
DTEND:20200422T163000Z
X-MICROSOFT-CDO-ALLDAYEVENT:FALSE
SUMMARY:Zoom Session with Central Chamber & Rep Garret Graves
DESCRIPTION:Zoom Session with Central Chamber & Rep Garret Graves
X-ALT-DESC;FMTTYPE=text/html:<span style="color: rgb(60\, 64\, 67)\; font-family: &quot\;Google Sans&quot\;\, Roboto\, Arial\, sans-serif\; font-size: 22px\; letter-spacing: 0.2px\; background-color: rgb(255\, 255\, 255)\;">Zoom Session with Central Chamber &amp\; Rep Garret Graves</span>
LOCATION:Zoom Session with Central Chamber & Rep Garret Graves Wed\, April 22 @ 10:30am 11:30am CST Link: https://zoom.us/j/93582216745 Mtg ID: 935 8221 6745 One Touch Mobile (Android or iPhone): PH 19292056099\,\,ID 93582216745# PH 13126266799\,\,93582216745# Or Dial according to your location: +1 929 205 6099 (New York) +1 312 626 6799 (Chicago) +1 346 248 7799 (Houston) Mtg ID : 935 8221 6745
UID:e.1367.2953
SEQUENCE:3
DTSTAMP:20260424T203646Z
URL:https://business.cityofcentralchamber.com/events/details/zoom-session-with-central-chamber-rep-garret-graves-2953
END:VEVENT

END:VCALENDAR
