BEGIN:VCALENDAR
VERSION:2.0
PRODID:-//ChamberMaster//Event Calendar 2.0//EN
METHOD:PUBLISH
X-PUBLISHED-TTL:P3D
REFRESH-INTERVAL:P3D
CALSCALE:GREGORIAN
BEGIN:VEVENT
DTSTART:20200708T163000Z
DTEND:20200708T180000Z
X-MICROSOFT-CDO-ALLDAYEVENT:FALSE
SUMMARY:Welcome Back: Greet & Eat!
DESCRIPTION:Welcome back!\n\nGreet & Eat!\n\nJuly 8\, 2020\n\n11:30 AM until 1:00 PM\n\nCentral Funeral Home\n\n9995 Hooper Rd \n\nCentral\, LA 70818\n\n\n\nwww.CentralFuneralHomeLa.com\n\nThis is our way of welcoming you back to your work family - the office! Also\, please welcome our new Event Coordinator Ms. Suzanne Murphy! \n\n\n\nPlease register up to two (2) representatives to come and taste our light to elegant menu items. These people should be key decision-makers with your company or organization who will make the decision to utilize our Reception Center.\n\n\n\nRegister by July 6\, 2020 - By email - Suzanne.Murphy@dignitymemorial.com or call Central FH at 225-236-0800!\n\n \n\nJoin us to taste our Food and Beverage\, Tour our facility\, and receive information to go!\n\n \n\n\nAttend & register to win a family portrait! Limited to 50 people at one time for this specific event (Phase 2).\n\n\nWe can service various occasions. Our services go beyond the day you lose your loved one. We can host your business meetings\, organization gatherings\, and evening cocktail parties up to 50 people. (Reception area)
X-ALT-DESC;FMTTYPE=text/html:<h2 style="text-align: center\;">Welcome back!</h2>\n\n<h1 style="text-align: center\;">Greet &amp\; Eat!</h1>\n\n<h3 style="text-align: center\;">July 8\, 2020</h3>\n\n<h3 style="text-align: center\;">11:30 AM until 1:00 PM</h3>\n\n<h3 style="text-align: center\;">Central Funeral Home<br />\n9995 Hooper Rd&nbsp\;<br />\nCentral\, LA 70818<br />\n<br />\nwww.CentralFuneralHomeLa.com</h3>\n\n<p>This is our way of welcoming you back to your work family - the office! Also\, please welcome our new Event Coordinator Ms. Suzanne Murphy!&nbsp\;<br />\n<br />\nPlease register up to two (2) representatives to come and taste our light to elegant menu items. These people should be key decision-makers with your company or organization who will make the decision to utilize our Reception Center.<br />\n<br />\nRegister by July 6\, 2020 - By email - <strong>Suzanne.Murphy@dignitymemorial.com</strong> or call Central FH at <strong>225-236-0800!</strong><br />\n&nbsp\;</p>\n\n<h4 style="text-align: center\;"><strong>Join us to taste our Food and Beverage\, Tour our facility\, and receive information to go!</strong><br />\n&nbsp\;</h4>\n\n<hr />\n<h4 style="text-align: center\;"><strong>Attend &amp\; register to win a family portrait! Limited to 50 people at one time for this specific event (Phase 2).</strong></h4>\n\n<hr />\n<h4 style="text-align: center\;"><strong>We can service various occasions. Our services go beyond the day you lose your loved one. We can host your business meetings\, organization gatherings\, and evening cocktail parties up to 50 people. (Reception area)</strong></h4>\n
LOCATION:Central Funeral Home 9995 Hooper Rd Central\, LA 70818
UID:e.1367.2958
SEQUENCE:3
DTSTAMP:20260424T161454Z
URL:https://business.cityofcentralchamber.com/events/details/welcome-back-greet-eat-2958
END:VEVENT

END:VCALENDAR
