BEGIN:VCALENDAR
VERSION:2.0
PRODID:-//ChamberMaster//Event Calendar 2.0//EN
METHOD:PUBLISH
X-PUBLISHED-TTL:P3D
REFRESH-INTERVAL:P3D
CALSCALE:GREGORIAN
BEGIN:VEVENT
DTSTART:20220329T150000Z
DTEND:20220329T160000Z
X-MICROSOFT-CDO-ALLDAYEVENT:FALSE
SUMMARY:Veterans Benefits\, Pension & Compensation at The Claiborne @ Shoe Creek
DESCRIPTION:Join us for a presentation by Kristy Bankson from the Louisiana Department of Veterans Affairs.
X-ALT-DESC;FMTTYPE=text/html:Join us for a presentation by Kristy Bankson from the Louisiana Department of Veterans Affairs.&nbsp\;
LOCATION:The Claiborne at Shoe Creek - 9750 Couret Dr.\, Central\, LA 70818
UID:e.1367.3059
SEQUENCE:3
DTSTAMP:20260423T072903Z
URL:https://business.cityofcentralchamber.com/events/details/veterans-benefits-pension-compensation-at-the-claiborne-shoe-creek-3059
END:VEVENT

END:VCALENDAR
