BEGIN:VCALENDAR
VERSION:2.0
PRODID:-//ChamberMaster//Event Calendar 2.0//EN
METHOD:PUBLISH
X-PUBLISHED-TTL:P3D
REFRESH-INTERVAL:P3D
CALSCALE:GREGORIAN
BEGIN:VEVENT
DTSTART:20210717T140000Z
DTEND:20210717T190000Z
X-MICROSOFT-CDO-ALLDAYEVENT:FALSE
SUMMARY:Treads & Care Tire Co. Grand Opening!
DESCRIPTION:Join us as we celebrate our grand opening in Central! \n\n\n\nWe'll have a DJ\, jambalaya\, and prizes! \n\n\n\nThe party gets started at 9 am and will go through 2 pm.\n\n\n\nCome by the shop at 11115 Park Place Dr this week to enter to win Master Craft Tires\, LSU posters and more!
X-ALT-DESC;FMTTYPE=text/html:<span style="font-size:14px\;"><strong>Join us as we celebrate our grand opening in Central!&nbsp\;<br />\n<br />\nWe&#39\;ll have a DJ\, jambalaya\, and prizes!&nbsp\;<br />\n<br />\nThe party gets started at 9 am and will go through 2 pm.<br />\n<br />\nCome by the shop at 11115 Park Place Dr this week to enter to win Master Craft Tires\, LSU posters and more!&nbsp\;</strong></span>
LOCATION:Treads & Care Tire Co. 11115 Park Place Dr Central\, LA 70818
UID:e.1367.2999
SEQUENCE:3
DTSTAMP:20260423T211607Z
URL:https://business.cityofcentralchamber.com/events/details/treads-care-tire-co-grand-opening-2999
END:VEVENT

END:VCALENDAR
