BEGIN:VCALENDAR
VERSION:2.0
PRODID:-//ChamberMaster//Event Calendar 2.0//EN
METHOD:PUBLISH
X-PUBLISHED-TTL:P3D
REFRESH-INTERVAL:P3D
CALSCALE:GREGORIAN
BEGIN:VEVENT
DTSTART:20250227T160000Z
DTEND:20250227T170000Z
X-MICROSOFT-CDO-ALLDAYEVENT:FALSE
SUMMARY:Trade Industry Round Table - LA Dept of Ed
DESCRIPTION:We are coordinating a Roundtable Brunch between the City of Central Chamber of Commerce and the Louisiana Department of Education to explore industry-based credentials (IBCs) and work-based learning opportunities for Central High School students.\n \n\nWe are inviting trade/skill based businesses to participate in this discussion\, specifically targeting organizations that hire high school graduates and require credentials or training\, but not an associate or bachelor's degree. \n\n \n\nYour insights would be invaluable in shaping the future of the Central High CTE program.\n\n \n\nWe would appreciate your participation in this important conversation.\n\n\n\nTHANK YOU TO OUR ROUNDTABLE SPONSOR:\n\nREBEL ELECTRIC
X-ALT-DESC;FMTTYPE=text/html:<span style="font-size:16px\;">We are coordinating a Roundtable Brunch between the City of Central Chamber of Commerce and the Louisiana Department of Education to explore industry-based credentials (IBCs) and work-based learning opportunities for Central High School students.</span>\n<div>&nbsp\;</div>\n\n<div><span style="font-size:16px\;">We are inviting trade/skill based businesses to participate in this discussion\, specifically targeting organizations that hire high school graduates and require credentials or training\, but not an associate or bachelor&#39\;s degree.&nbsp\;</span>\n\n<div>&nbsp\;</div>\n\n<div><span style="font-size:16px\;">Your insights would be invaluable in shaping the future of the Central High CTE program.</span></div>\n\n<div>&nbsp\;</div>\n\n<div><span style="font-size:16px\;">We would appreciate your participation in this important conversation.<br />\n<br />\n<span style="font-size:22px\;"><u><span style="color:#B22222\;"><strong>THANK YOU TO OUR ROUNDTABLE SPONSOR:<br />\nREBEL ELECTRIC</strong></span></u></span></span></div>\n</div>\n
LOCATION:City of Central Chamber of Commerce 12416 Hooper Road\, Central\, LA 70818
UID:e.1367.3219
SEQUENCE:3
DTSTAMP:20260420T193828Z
URL:https://business.cityofcentralchamber.com/events/details/trade-industry-round-table-la-dept-of-ed-3219
END:VEVENT

END:VCALENDAR
