BEGIN:VCALENDAR
VERSION:2.0
PRODID:-//ChamberMaster//Event Calendar 2.0//EN
METHOD:PUBLISH
X-PUBLISHED-TTL:P3D
REFRESH-INTERVAL:P3D
CALSCALE:GREGORIAN
BEGIN:VEVENT
DTSTART:20250320T163000Z
DTEND:20250320T170000Z
X-MICROSOFT-CDO-ALLDAYEVENT:FALSE
SUMMARY:TRADE Construction Open House & Ribbon Cutting
DESCRIPTION:Join us as we celebrate the Grand Opening & Ribbon Cutting for TRADE Construction's NEW Location!    \n\n\n\nBe there as we celebrate Trade's newest expansion! Come network\, explore the space\, and show your support. We can't wait to see you!
X-ALT-DESC;FMTTYPE=text/html:<span style="font-size:18px\;">&#128680\;&#10024\; Join us as we celebrate the <strong data-end="66" data-start="32">Grand Opening &amp\; Ribbon Cutting</strong> for TRADE Construction&#39\;s NEW Location! &#9986\;&#65039\;&#127881\;<br />\n<br />\nBe there as we celebrate Trade&#39\;s newest expansion! Come network\, explore the space\, and show your support. We can&rsquo\;t wait to see you!</span>
LOCATION:6639 Sullivan Road
UID:e.1367.3225
SEQUENCE:3
DTSTAMP:20260420T175112Z
URL:https://business.cityofcentralchamber.com/events/details/trade-construction-open-house-ribbon-cutting-3225
END:VEVENT

END:VCALENDAR
