BEGIN:VCALENDAR
VERSION:2.0
PRODID:-//ChamberMaster//Event Calendar 2.0//EN
METHOD:PUBLISH
X-PUBLISHED-TTL:P3D
REFRESH-INTERVAL:P3D
CALSCALE:GREGORIAN
BEGIN:VEVENT
DTSTART:20230812T150000Z
DTEND:20230812T153000Z
X-MICROSOFT-CDO-ALLDAYEVENT:FALSE
SUMMARY:Tractor Supply Co.- Ribbon Cutting
DESCRIPTION:JOIN US on Saturday as we Celebrate Tractor Supply Co. Grand Opening! The store opens at 8am - Ribbon Cutting Ceremony at 10am. We would love to see you there!\n\n\n\n  3533 Hooper Road\n\n 10 am
X-ALT-DESC;FMTTYPE=text/html:JOIN US on Saturday as we Celebrate Tractor Supply Co. Grand Opening! The store opens at 8am - Ribbon Cutting Ceremony at 10am. We would love to see you there!<br />\n<br />\n<span class="x1xsqp64 xiy17q3 x1o6pynw x19co3pv xdj266r xcwd3tp xat24cr x39eecv x2b8uid" data-testid="emoji" style="cursor: default\; background-image: url(&quot\;https://static.xx.fbcdn.net/images/emoji.php/v9/t2d/1/16/1f4cd.png&quot\;)\; background-size: 16px 16px\;"><span class="xexx8yu xn5pp95 x18d9i69 x2fxd7x x1yqt14a x1bhl96m">&#128205\;</span></span> 3533 Hooper Road<br />\n<span class="x1xsqp64 xiy17q3 x1o6pynw x19co3pv xdj266r xcwd3tp xat24cr x39eecv x2b8uid" data-testid="emoji" style="cursor: default\; background-image: url(&quot\;https://static.xx.fbcdn.net/images/emoji.php/v9/tb5/1/16/23f1.png&quot\;)\; background-size: 16px 16px\;"><span class="xexx8yu xn5pp95 x18d9i69 x2fxd7x x1yqt14a x1bhl96m">&#9201\;</span></span>10 am
LOCATION:3533 Hooper Road
UID:e.1367.3135
SEQUENCE:3
DTSTAMP:20260422T044015Z
URL:https://business.cityofcentralchamber.com/events/details/tractor-supply-co-ribbon-cutting-3135
END:VEVENT

END:VCALENDAR
