BEGIN:VCALENDAR
VERSION:2.0
PRODID:-//ChamberMaster//Event Calendar 2.0//EN
METHOD:PUBLISH
X-PUBLISHED-TTL:P3D
REFRESH-INTERVAL:P3D
CALSCALE:GREGORIAN
BEGIN:VEVENT
DTSTART:20241010T230000Z
DTEND:20241011T020000Z
X-MICROSOFT-CDO-ALLDAYEVENT:FALSE
SUMMARY:Top Golf Social
DESCRIPTION:Join us for our annual Top Golf Social. There will be prizes\, raffles and we are ready to have a good time!\n\n\n\nTeam Options:\n\n1 Bay with a Team Of 6 Golfers: $750.00\n\n1 Bay with a Team Of 6 Golfers And 2 Non-Golfers: $850.00\n\nIncludes: Bay\, Fajita Bar\, unlimited soft drinks/water/coffee\n\n\n\nSponsor Options\n\n\n\nGolf Towel Sponsor- $75\n\n\n	Company Logo on 2024 Towels\n	Opportunity to Donate Swag for Golfers\n	Social Media Shout Out\n\n\n\n\nBay Sponsor $150\n\n\n	Company Logo at all bays\n	Opportunity to Donate Swag for Golfers\n	Social Media Shout Out\n\n Food Sponsor $400- 3 Available\n\n\n	Logo at all Food Stations \n	Logo at Each Bay\n	Opportunity to Donate Swag for Golfers\n	Social Media Shout Out\n\n Step & Repeat Sponsor $500- 2 Available\n\n\n	Logo on Step & Repeat backdrop where all guests will take pictures in our party room\n	Name included at all Bays\n	Opportunity to Donate Swag for Golfers\n	Social Media Shout Out
X-ALT-DESC;FMTTYPE=text/html:<p style="box-sizing: border-box\; margin: 0px 0px 1rem\; font-family: FiraSans\, sans-serif\; font-size: 16px\; background-color: rgb(243\, 243\, 243)\;"><span style="color:#ff66cc\;"><span class="gz-event-fees" style="box-sizing: border-box\;"><span style="box-sizing: border-box\;"><span style="box-sizing: border-box\; font-weight: bolder\;"><u style="box-sizing: border-box\;"><span style="box-sizing: border-box\; font-size: 14pt\;">Join us for our annual Top Golf Social. There will be prizes\, raffles and we are ready to have a good time!</span></u><br />\n<br />\n<u style="box-sizing: border-box\;"><span style="box-sizing: border-box\; font-size: 14pt\;">Team Options:</span></u></span></span><br style="box-sizing: border-box\;" />\n<span style="box-sizing: border-box\; font-size: 12pt\;">1 Bay with a Team Of 6 Golfers:&nbsp\;<span style="box-sizing: border-box\; font-weight: bolder\;">$750.00</span></span><br style="box-sizing: border-box\;" />\n<span style="box-sizing: border-box\; font-size: 12pt\;">1 Bay with a Team Of 6 Golfers And 2 Non-Golfers:&nbsp\;<span style="box-sizing: border-box\; font-weight: bolder\;">$850.00</span></span></span><br />\n<span class="OYPEnA font-feature-liga-off font-feature-clig-off font-feature-calt-off text-decoration-none text-strikethrough-none" style="font-kerning: none\;">Includes: Bay\, Fajita Bar\, unlimited soft drinks/water/coffee</span><br />\n<br style="box-sizing: border-box\;" />\n<span class="gz-event-fees" style="box-sizing: border-box\;"><span style="box-sizing: border-box\; font-weight: bolder\;"><span style="box-sizing: border-box\;"><u style="box-sizing: border-box\;"><span style="box-sizing: border-box\; font-size: 14pt\;">Sponsor Options</span></u></span></span></span></span><br />\n<br />\n<span style="font-family: sans-serif\, Arial\, Verdana\, &quot\;Trebuchet MS&quot\;\; font-size: 13px\; background-color: rgb(255\, 255\, 255)\; color: rgb(255\, 102\, 204)\;"><span style="box-sizing: border-box\; font-weight: bolder\; font-family: FiraSans\, sans-serif\; font-size: 16px\; background-color: rgb(243\, 243\, 243)\;"><span style="box-sizing: border-box\; font-size: 12pt\;">Golf Towel Sponsor- $75</span></span></span></p>\n\n<ul style="padding: 0px 40px\; color: rgb(51\, 51\, 51)\; box-sizing: border-box\; margin-top: 0px\; margin-bottom: 1rem\; font-family: FiraSans\, sans-serif\; font-size: 16px\; background-color: rgb(243\, 243\, 243)\;">\n	<li style="box-sizing: border-box\; margin: 0px\;"><span style="color: rgb(255\, 102\, 204)\;"><span style="box-sizing: border-box\; font-size: 12pt\;">Company Logo on 2024 Towels</span></span></li>\n	<li style="box-sizing: border-box\; margin: 0px\;"><span style="color: rgb(255\, 102\, 204)\;"><span style="box-sizing: border-box\; font-size: 12pt\;">Opportunity to Donate Swag for Golfers</span></span></li>\n	<li style="box-sizing: border-box\; margin: 0px\;"><span style="color: rgb(255\, 102\, 204)\;"><span style="box-sizing: border-box\; font-size: 12pt\;">Social Media Shout Out</span></span></li>\n</ul>\n\n<p style="box-sizing: border-box\; margin: 0px 0px 1rem\; font-family: FiraSans\, sans-serif\; font-size: 16px\; background-color: rgb(243\, 243\, 243)\;"><br />\n<span style="color:#ff66cc\;"><span style="font-size: 12pt\; font-weight: bolder\;">Bay Sponsor $150</span></span></p>\n\n<ul style="box-sizing: border-box\; margin-top: 0px\; margin-bottom: 1rem\; font-family: FiraSans\, sans-serif\; font-size: 16px\; background-color: rgb(243\, 243\, 243)\;">\n	<li style="box-sizing: border-box\; margin: 0px\;"><span style="color:#ff66cc\;"><span style="box-sizing: border-box\; font-size: 12pt\;">Company Logo at all bays</span></span></li>\n	<li style="box-sizing: border-box\; margin: 0px\;"><span style="color:#ff66cc\;"><span style="box-sizing: border-box\; font-size: 12pt\;">Opportunity to Donate Swag for Golfers</span></span></li>\n	<li style="box-sizing: border-box\; margin: 0px\;"><span style="color:#ff66cc\;"><span style="box-sizing: border-box\; font-size: 12pt\;">Social Media Shout Out</span></span></li>\n</ul>\n<span style="color:#ff66cc\;"><strong><span style="font-family: FiraSans\, sans-serif\; font-size: 16px\; background-color: rgb(243\, 243\, 243)\;">&nbsp\;Food</span></strong><span style="box-sizing: border-box\; font-weight: bolder\; font-family: FiraSans\, sans-serif\; font-size: 16px\; background-color: rgb(243\, 243\, 243)\;"><span style="box-sizing: border-box\; font-size: 12pt\;"><strong>&nbsp\;</strong>Sponsor $400- 3 Available</span></span></span>\n\n<ul style="box-sizing: border-box\; margin-top: 0px\; margin-bottom: 1rem\; font-family: FiraSans\, sans-serif\; font-size: 16px\; background-color: rgb(243\, 243\, 243)\;">\n	<li style="box-sizing: border-box\; margin: 0px\;"><span style="color:#ff66cc\;"><span style="box-sizing: border-box\; font-size: 12pt\;">Logo at all Food Stations&nbsp\;</span></span></li>\n	<li style="box-sizing: border-box\; margin: 0px\;"><span style="color:#ff66cc\;"><span style="box-sizing: border-box\; font-size: 12pt\;">Logo at Each Bay</span></span></li>\n	<li style="box-sizing: border-box\; margin: 0px\;"><span style="color:#ff66cc\;"><span style="box-sizing: border-box\; font-size: 12pt\;">Opportunity to Donate Swag for Golfers</span></span></li>\n	<li style="box-sizing: border-box\; margin: 0px\;"><span style="color:#ff66cc\;"><span style="box-sizing: border-box\; font-size: 12pt\;">Social Media Shout Out</span></span></li>\n</ul>\n<span style="color:#ff66cc\;"> <span style="box-sizing: border-box\; font-weight: bolder\; font-family: FiraSans\, sans-serif\; font-size: 16px\; background-color: rgb(243\, 243\, 243)\;"><span style="box-sizing: border-box\; font-size: 12pt\;">Step &amp\; Repeat Sponsor $500- 2 Available</span></span></span>\n\n<ul style="padding: 0px 40px\; color: rgb(51\, 51\, 51)\; box-sizing: border-box\; margin-top: 0px\; margin-bottom: 1rem\; font-family: FiraSans\, sans-serif\; font-size: 16px\; background-color: rgb(243\, 243\, 243)\;">\n	<li style="box-sizing: border-box\; margin: 0px\;"><span style="color:#ff66cc\;"><span style="box-sizing: border-box\; font-size: 12pt\;">Logo on Step &amp\; Repeat backdrop where all guests will take pictures in our party room</span></span></li>\n	<li style="box-sizing: border-box\; margin: 0px\;"><span style="color:#ff66cc\;"><span style="box-sizing: border-box\; font-size: 12pt\;">Name included at all Bays</span></span></li>\n	<li style="box-sizing: border-box\; margin: 0px\;"><span style="color:#ff66cc\;"><span style="box-sizing: border-box\; font-size: 12pt\;">Opportunity to Donate Swag for Golfers</span></span></li>\n	<li style="box-sizing: border-box\; margin: 0px\;"><span style="color:#ff66cc\;"><span style="box-sizing: border-box\; font-size: 12pt\;">Social Media Shout Out</span></span></li>\n</ul>\n
LOCATION:10955 N Mall Dr\, Baton Rouge\, LA 70809
UID:e.1367.3142
SEQUENCE:3
DTSTAMP:20260421T020808Z
URL:https://business.cityofcentralchamber.com/events/details/top-golf-social-3142
END:VEVENT

END:VCALENDAR
