BEGIN:VCALENDAR
VERSION:2.0
PRODID:-//ChamberMaster//Event Calendar 2.0//EN
METHOD:PUBLISH
X-PUBLISHED-TTL:P3D
REFRESH-INTERVAL:P3D
CALSCALE:GREGORIAN
BEGIN:VEVENT
DTSTART:20230504T230000Z
DTEND:20230505T020000Z
X-MICROSOFT-CDO-ALLDAYEVENT:FALSE
SUMMARY:Top Golf Social
DESCRIPTION:
X-ALT-DESC;FMTTYPE=text/html:
LOCATION:10955 N Mall Dr\, Baton Rouge\, LA 70809
UID:e.1367.3117
SEQUENCE:3
DTSTAMP:20260422T092209Z
URL:https://business.cityofcentralchamber.com/events/details/top-golf-social-3117
END:VEVENT

END:VCALENDAR
