BEGIN:VCALENDAR
VERSION:2.0
PRODID:-//ChamberMaster//Event Calendar 2.0//EN
METHOD:PUBLISH
X-PUBLISHED-TTL:P3D
REFRESH-INTERVAL:P3D
CALSCALE:GREGORIAN
BEGIN:VEVENT
DTSTART:20230223T223000Z
DTEND:20230223T233000Z
X-MICROSOFT-CDO-ALLDAYEVENT:FALSE
SUMMARY:The Claiborne at Shoe Creek - WINE TASTING
DESCRIPTION:Join us at The Claiborne at Shoe Creek for a special wine tasting hosted by our very own Chef Buddy Wheeler. Learn and experience the different elements of wine. Light hors d'oeuvres will be served.\n\nSpace is limited! \nSee less
X-ALT-DESC;FMTTYPE=text/html:<div class="x11i5rnm xat24cr x1mh8g0r x1vvkbs xdj266r" style="margin: 0px\; overflow-wrap: break-word\; font-family: &quot\;Segoe UI Historic&quot\;\, &quot\;Segoe UI&quot\;\, Helvetica\, Arial\, sans-serif\; color: rgb(5\, 5\, 5)\; font-size: 15px\;">Join us at The Claiborne at Shoe Creek for a special wine tasting hosted by our very own Chef Buddy Wheeler. Learn and experience the different elements of wine. Light hors d&#39\;oeuvres will be served.</div>\n\n<div class="x11i5rnm xat24cr x1mh8g0r x1vvkbs xtlvy1s" style="margin: 0.5em 0px 0px\; overflow-wrap: break-word\; font-family: &quot\;Segoe UI Historic&quot\;\, &quot\;Segoe UI&quot\;\, Helvetica\, Arial\, sans-serif\; color: rgb(5\, 5\, 5)\; font-size: 15px\;">Space is limited!&nbsp\;\n<div class="x1i10hfl xjbqb8w x6umtig x1b1mbwd xaqea5y xav7gou x9f619 x1ypdohk xt0psk2 xe8uvvx xdj266r x11i5rnm xat24cr x1mh8g0r xexx8yu x4uap5 x18d9i69 xkhd6sd x16tdsg8 x1hl2dhg xggy1nq x1a2a7pz xt0b8zv xzsf02u x1s688f" role="button" style="margin: 0px\; text-align: inherit\; padding: 0px\; outline: none\; border-width: 0px\; border-style: initial\; border-color: initial\; -webkit-tap-highlight-color: transparent\; font-weight: 600\; cursor: pointer\; box-sizing: border-box\; list-style: none\; touch-action: manipulation\; background-color: transparent\; display: inline\; color: var(--primary-text)\; font-family: inherit\;" tabindex="0">See less</div>\n</div>\n
LOCATION:The Claiborne at Shoe Creek
UID:e.1367.3099
SEQUENCE:3
DTSTAMP:20260422T140457Z
URL:https://business.cityofcentralchamber.com/events/details/the-claiborne-at-shoe-creek-wine-tasting-3099
END:VEVENT

END:VCALENDAR
