BEGIN:VCALENDAR
VERSION:2.0
PRODID:-//ChamberMaster//Event Calendar 2.0//EN
METHOD:PUBLISH
X-PUBLISHED-TTL:P3D
REFRESH-INTERVAL:P3D
CALSCALE:GREGORIAN
BEGIN:VEVENT
DTSTART:20210928T190000Z
DTEND:20210929T010000Z
X-MICROSOFT-CDO-ALLDAYEVENT:FALSE
SUMMARY:Taco Tuesday with Queen Eats
DESCRIPTION:It's Taco Tuesday with Queen Eats and Royal Treats\n\n\n\nWill be at 13362 Hooper Rd Baton Rouge\, LA 70818 from 2 pm to 8 pm.\n\n\n\nTACOS\n\nBeef tacos - $10 \n\nChicken tacos - $10\n\nShrimp tacos - $12\n\nSteak tacos - $12\n\n*Tacos come with rice & beans*\n\n\n\nTACO SALAD\n\nBeef - $10\n\nChicken - $10\n\nShrimp - $12\n\nSteak - $12\n\n\n\nEXTRAS\n\nHamburger & fries - $12\n\nBeef & shrimp nachos - $12\n\nNacho fries (beef & shrimp) - $15\n\nSpinach dip - $8\n\n\n\nDRINKS & SWEETS\n\nStrawberry lemonade - $3\n\nLoaded poundcake - $6\n\nChurro sticks with sauce - $2
X-ALT-DESC;FMTTYPE=text/html:<span style="font-size:16px\;">It&#39\;s Taco Tuesday with Queen Eats and Royal Treats<br />\n<br />\nWill be at 13362 Hooper Rd Baton Rouge\, LA 70818 from 2 pm to 8 pm.<br />\n<br />\nTACOS<br />\nBeef tacos - $10&nbsp\;<br />\nChicken tacos - $10<br />\nShrimp tacos - $12<br />\nSteak tacos - $12<br />\n*Tacos come with rice &amp\; beans*<br />\n<br />\nTACO SALAD<br />\nBeef - $10<br />\nChicken - $10<br />\nShrimp - $12<br />\nSteak - $12<br />\n<br />\nEXTRAS<br />\nHamburger &amp\; fries - $12<br />\nBeef &amp\; shrimp nachos - $12<br />\nNacho fries (beef &amp\; shrimp) - $15<br />\nSpinach dip - $8<br />\n<br />\nDRINKS &amp\; SWEETS<br />\nStrawberry lemonade - $3<br />\nLoaded poundcake - $6<br />\nChurro sticks with sauce - $2</span>
LOCATION:13362 Hooper Rd Baton Rouge\, LA 70818
UID:e.1367.3007
SEQUENCE:3
DTSTAMP:20260423T185741Z
URL:https://business.cityofcentralchamber.com/events/details/taco-tuesday-with-queen-eats-3007
END:VEVENT

END:VCALENDAR
