BEGIN:VCALENDAR
VERSION:2.0
PRODID:-//ChamberMaster//Event Calendar 2.0//EN
METHOD:PUBLISH
X-PUBLISHED-TTL:P3D
REFRESH-INTERVAL:P3D
CALSCALE:GREGORIAN
BEGIN:VEVENT
DTSTART:20230519T230000Z
DTEND:20230520T000000Z
X-MICROSOFT-CDO-ALLDAYEVENT:FALSE
SUMMARY:Sullivan Theater - Grand Opening and Ribbon Cutting
DESCRIPTION:Sullivan Theater Grand Opening Celebration and Ribbon Cutting
X-ALT-DESC;FMTTYPE=text/html:<p>Sullivan Theater&nbsp\;Grand Opening Celebration and Ribbon Cutting&nbsp\;</p>\n
LOCATION:8849 Sullivan Road
UID:e.1367.3122
SEQUENCE:3
DTSTAMP:20260422T092318Z
URL:https://business.cityofcentralchamber.com/events/details/sullivan-theater-grand-opening-and-ribbon-cutting-3122
END:VEVENT

END:VCALENDAR
