BEGIN:VCALENDAR
VERSION:2.0
PRODID:-//ChamberMaster//Event Calendar 2.0//EN
METHOD:PUBLISH
X-PUBLISHED-TTL:P3D
REFRESH-INTERVAL:P3D
CALSCALE:GREGORIAN
BEGIN:VEVENT
DTSTART:20231027T050000Z
DTEND:20231027T053000Z
X-MICROSOFT-CDO-ALLDAYEVENT:FALSE
SUMMARY:Sugar Me Sweet Cakes and Confections Ribbon Cutting
DESCRIPTION:Join us as we celebrate Sugar Me Sweet Cakes and Confections Ribbon Cutting
X-ALT-DESC;FMTTYPE=text/html:Join us as we celebrate Sugar Me Sweet Cakes and Confections Ribbon Cutting
LOCATION:8565 Rome Dr\, Central\, LA
UID:e.1367.3148
SEQUENCE:3
DTSTAMP:20260422T015114Z
URL:https://business.cityofcentralchamber.com/events/details/sugar-me-sweet-cakes-and-confections-ribbon-cutting-3148
END:VEVENT

END:VCALENDAR
