BEGIN:VCALENDAR
VERSION:2.0
PRODID:-//ChamberMaster//Event Calendar 2.0//EN
METHOD:PUBLISH
X-PUBLISHED-TTL:P3D
REFRESH-INTERVAL:P3D
CALSCALE:GREGORIAN
BEGIN:VEVENT
DTSTART:20220729T123000Z
DTEND:20220729T223000Z
X-MICROSOFT-CDO-ALLDAYEVENT:FALSE
SUMMARY:Stock the Lounge Drop Off
DESCRIPTION:Central Community in Action/CCSS School PTO Parents NEED YOUR HELP!\n\n\n\nCentral Community School System - Stock the Lounge Full Details:\n\n\n\n*Central's PTO Parents want to welcome teachers back with fully stocked lounges. Please use the signup genius to sign up for items\, and PLEASE share with your friends so we can make sure all needs are met for our AMAZING teachers.*\n\nIf you are a member and would like to donate items that are not on the list reach out to the Central Chamber of Commerce we would love your support!\n\n\n\nSign Up Link: https://www.signupgenius.com/go/8050f4fa5a729a1f85-stock\n\n\n\nDrop Off Details:\n\nWhen: Friday\, July 29th.\n\nWhere: Central Community Athletics 10510 Joor Road\n\nTime: Anytime between 7:30 am and 5:30 pm\n\n\n\nSomeone will be there to grab your supplies and you don't even have to get out of the car!\n\n\n\nCan't make it that day? Stop by the Central Chamber before 4:00 (12416 Hooper Road). If we are not at the Chamber please feel free to leave it by the door or drop it in Eric Frank's office.\n\n\n\nThank you for your continued support of Central Schools and their teachers.\n\n\n\nDonations will be divided evenly between the Central Schools - BHE\, TES\, CIS\, CMS\, and CHS.\n\n\n\n\n\nhttps://www.signupgenius.com/go/8050f4fa5a729a1f85-stock
X-ALT-DESC;FMTTYPE=text/html:<div class="kvgmc6g5 cxmmr5t8 oygrvhab hcukyx3x c1et5uql ii04i59q" style="overflow-wrap: break-word\; margin: 0px\; white-space: pre-wrap\; font-family: &quot\;Segoe UI Historic&quot\;\, &quot\;Segoe UI&quot\;\, Helvetica\, Arial\, sans-serif\; color: rgb(5\, 5\, 5)\; font-size: 15px\;">\n<div dir="auto" style="font-family: inherit\;">Central Community in Action/CCSS School PTO Parents NEED YOUR HELP!</div>\n</div>\n\n<div class="cxmmr5t8 oygrvhab hcukyx3x c1et5uql o9v6fnle ii04i59q" style="overflow-wrap: break-word\; margin: 0.5em 0px 0px\; white-space: pre-wrap\; font-family: &quot\;Segoe UI Historic&quot\;\, &quot\;Segoe UI&quot\;\, Helvetica\, Arial\, sans-serif\; color: rgb(5\, 5\, 5)\; font-size: 15px\;">\n<div dir="auto" style="font-family: inherit\;">Central Community School System - Stock the Lounge Full Details:</div>\n\n<div dir="auto" style="font-family: inherit\;"><br />\n*Central&#39\;s PTO Parents want to welcome teachers back with fully stocked lounges. Please use the signup genius to sign up for items\, and PLEASE share with your friends so we can make sure all needs are met for our AMAZING teachers.*</div>\n\n<p dir="auto" style="font-family: inherit\;">If you are a member and would like to donate items that are not on the list reach out to the <span style="font-family: inherit\;"><a class="oajrlxb2 g5ia77u1 qu0x051f esr5mh6w e9989ue4 r7d6kgcz rq0escxv nhd2j8a9 nc684nl6 p7hjln8o kvgmc6g5 cxmmr5t8 oygrvhab hcukyx3x jb3vyjys rz4wbd8a qt6c0cv9 a8nywdso i1ao9s8h esuyzwwr f1sip0of lzcic4wl gpro0wi8 q66pz984 b1v8xokw" href="https://www.facebook.com/CentralChamberOfCommerce?__cft__[0]=AZULB-pekdweUk4bZnyQyQWdz28RUaJ_FlDdljtparkGwwXR38SwJfSISFj3i3wPEu0KguArai1XAXUedtpzIyP_2BfIT7BA430gO19ctPGNJj664k49IEBtolWi9ZTFDykWFyWnEJ0b3nTaG_R-aup71iVoGVmgQzl2HX5q0XypLg&amp\;__tn__=-]K-y-R" role="link" style="color: var(--accent)\; cursor: pointer\; text-decoration-line: none\; outline: none\; list-style: none\; border-width: 0px\; border-style: initial\; border-color: initial\; padding: 0px\; margin: 0px\; touch-action: manipulation\; background-color: transparent\; text-align: inherit\; display: inline\; -webkit-tap-highlight-color: transparent\; box-sizing: border-box\; font-family: inherit\;" tabindex="0"><span class="nc684nl6" style="display: inline\; font-family: inherit\;">Central Chamber of Commerce</span></a></span> we would love your support!</p>\n</div>\n\n<div class="cxmmr5t8 oygrvhab hcukyx3x c1et5uql o9v6fnle ii04i59q" style="overflow-wrap: break-word\; margin: 0.5em 0px 0px\; white-space: pre-wrap\; font-family: &quot\;Segoe UI Historic&quot\;\, &quot\;Segoe UI&quot\;\, Helvetica\, Arial\, sans-serif\; color: rgb(5\, 5\, 5)\; font-size: 15px\;">\n<div dir="auto" style="font-family: inherit\;">Sign Up Link: <span style="font-family: inherit\;"><a class="oajrlxb2 g5ia77u1 qu0x051f esr5mh6w e9989ue4 r7d6kgcz rq0escxv nhd2j8a9 nc684nl6 p7hjln8o kvgmc6g5 cxmmr5t8 oygrvhab hcukyx3x jb3vyjys rz4wbd8a qt6c0cv9 a8nywdso i1ao9s8h esuyzwwr f1sip0of lzcic4wl gpro0wi8 py34i1dx" href="https://www.signupgenius.com/go/8050f4fa5a729a1f85-stock?fbclid=IwAR3CHSdV4dvuNvd9vcQAY-sl-_hkrneJXQFNf7NqsprD2PCfAASt2V1hlYE" rel="nofollow noopener" role="link" style="color: var(--blue-link)\; cursor: pointer\; text-decoration-line: none\; outline: none\; list-style: none\; border-width: 0px\; border-style: initial\; border-color: initial\; padding: 0px\; margin: 0px\; touch-action: manipulation\; background-color: transparent\; text-align: inherit\; display: inline\; -webkit-tap-highlight-color: transparent\; box-sizing: border-box\; font-family: inherit\;" tabindex="0" target="_blank">https://www.signupgenius.com/go/8050f4fa5a729a1f85-stock</a></span></div>\n</div>\n\n<div class="cxmmr5t8 oygrvhab hcukyx3x c1et5uql o9v6fnle ii04i59q" style="overflow-wrap: break-word\; margin: 0.5em 0px 0px\; white-space: pre-wrap\; font-family: &quot\;Segoe UI Historic&quot\;\, &quot\;Segoe UI&quot\;\, Helvetica\, Arial\, sans-serif\; color: rgb(5\, 5\, 5)\; font-size: 15px\;">\n<div dir="auto" style="font-family: inherit\;">Drop Off Details:</div>\n\n<div dir="auto" style="font-family: inherit\;">When: Friday\, July 29th.</div>\n\n<p dir="auto" style="font-family: inherit\;">Where: Central Community Athletics 10510 Joor Road</p>\n\n<p dir="auto" style="font-family: inherit\;">Time: Anytime between 7:30 am and 5:30 pm</p>\n</div>\n\n<div class="cxmmr5t8 oygrvhab hcukyx3x c1et5uql o9v6fnle ii04i59q" style="overflow-wrap: break-word\; margin: 0.5em 0px 0px\; white-space: pre-wrap\; font-family: &quot\;Segoe UI Historic&quot\;\, &quot\;Segoe UI&quot\;\, Helvetica\, Arial\, sans-serif\; color: rgb(5\, 5\, 5)\; font-size: 15px\;">\n<div dir="auto" style="font-family: inherit\;">Someone will be there to grab your supplies and you don&#39\;t even have to get out of the car!</div>\n</div>\n\n<div class="cxmmr5t8 oygrvhab hcukyx3x c1et5uql o9v6fnle ii04i59q" style="overflow-wrap: break-word\; margin: 0.5em 0px 0px\; white-space: pre-wrap\; font-family: &quot\;Segoe UI Historic&quot\;\, &quot\;Segoe UI&quot\;\, Helvetica\, Arial\, sans-serif\; color: rgb(5\, 5\, 5)\; font-size: 15px\;">\n<div dir="auto" style="font-family: inherit\;">Can&#39\;t make it that day? Stop by the Central Chamber before 4:00 (12416 Hooper Road). If we are not at the Chamber please feel free to leave it by the door or drop it in Eric Frank&#39\;s office.</div>\n</div>\n\n<div class="cxmmr5t8 oygrvhab hcukyx3x c1et5uql o9v6fnle ii04i59q" style="overflow-wrap: break-word\; margin: 0.5em 0px 0px\; white-space: pre-wrap\; font-family: &quot\;Segoe UI Historic&quot\;\, &quot\;Segoe UI&quot\;\, Helvetica\, Arial\, sans-serif\; color: rgb(5\, 5\, 5)\; font-size: 15px\;">\n<div dir="auto" style="font-family: inherit\;">Thank you for your continued support of Central Schools and their teachers.</div>\n</div>\n\n<div class="cxmmr5t8 oygrvhab hcukyx3x c1et5uql o9v6fnle ii04i59q" style="overflow-wrap: break-word\; margin: 0.5em 0px 0px\; white-space: pre-wrap\; font-family: &quot\;Segoe UI Historic&quot\;\, &quot\;Segoe UI&quot\;\, Helvetica\, Arial\, sans-serif\; color: rgb(5\, 5\, 5)\; font-size: 15px\;">\n<div dir="auto" style="font-family: inherit\;">Donations will be divided evenly between the Central Schools - BHE\, TES\, CIS\, CMS\, and CHS.</div>\n</div>\n<br />\n<br />\n<a class="oajrlxb2 g5ia77u1 qu0x051f esr5mh6w e9989ue4 r7d6kgcz rq0escxv nhd2j8a9 nc684nl6 p7hjln8o kvgmc6g5 cxmmr5t8 oygrvhab hcukyx3x jb3vyjys rz4wbd8a qt6c0cv9 a8nywdso i1ao9s8h esuyzwwr f1sip0of lzcic4wl gpro0wi8 py34i1dx" href="https://www.signupgenius.com/go/8050f4fa5a729a1f85-stock?fbclid=IwAR3lLu8DZE5IG2k_X1HUlPw0iPUZKX403J421_gpOTEHwHPAl42P6HztJ6o" rel="nofollow noopener" role="link" style="color: var(--blue-link)\; font-family: inherit\; font-size: 15px\; text-align: inherit\; white-space: pre-wrap\; background-color: transparent\; cursor: pointer\; text-decoration-line: none\; outline: none\; list-style: none\; border-width: 0px\; border-style: initial\; border-color: initial\; padding: 0px\; margin: 0px\; touch-action: manipulation\; display: inline\; -webkit-tap-highlight-color: transparent\; box-sizing: border-box\;" tabindex="0" target="_blank">https://www.signupgenius.com/go/8050f4fa5a729a1f85-stock</a>
LOCATION:Where: Central Community Athletics 10510 Joor Road
UID:e.1367.3073
SEQUENCE:3
DTSTAMP:20260423T015328Z
URL:https://business.cityofcentralchamber.com/events/details/stock-the-lounge-drop-off-3073
END:VEVENT

END:VCALENDAR
