BEGIN:VCALENDAR
VERSION:2.0
PRODID:-//ChamberMaster//Event Calendar 2.0//EN
METHOD:PUBLISH
X-PUBLISHED-TTL:P3D
REFRESH-INTERVAL:P3D
CALSCALE:GREGORIAN
BEGIN:VEVENT
DTSTART:20220409T150000Z
DTEND:20220409T190000Z
X-MICROSOFT-CDO-ALLDAYEVENT:FALSE
SUMMARY:Spring into Wellness and Shop the Square
DESCRIPTION:On Saturday\, April 9th starting at 10 am we will be at Central City Shopping Center (13539 Hooper Road) with a Central one-stop shop and Health and Fitness Expo. \n\n\n\nHere's what you can expect: \n\n	Great shopping\n	Community Workouts\n	Kids activities\n	Food Trucks\n	Music\n\n Join all the fun for FREE\, just stop by.\n\n\n\nChamber Members can set up a booth for $30.\n\n\n\nGuest businesses can set up a booth for only $50. Just click "Register" on the right. \n\n\n\nFAQ:\n\nSet up will be from 7:30 am to 9:00 am and takedown will be from 2 pm to 3 pm.\n\n\n\nVendors should bring their own tables\, 10x10 tents and decorations. \n\n\n\nBooth Requirements\n\n\n	Each vendor is responsible for bringing their own tent and table.\n	We have designated a spot that will fit a 10 x 10 tent for each vendor. If you are sharing space and would like to use a larger tent\, please contact us for approval. \n	White tents are preferred.\n	Tents must be staked down in case of wind.\n	Tent spaces should be kept trash-free. There will be trash cans on site.\n	All items must fit within your tent space. \n	We do not have power available.\n\nBasic Rules\n\n\n	Tent placement requests can not be guaranteed.\n	You will check-in at the Central Chamber tent upon arrival. \n	Must comply with all state and local laws. \n	No smoking. \n	Vendors should be set up by 9:30 am and you must remain on site until 2 pm. \n	All food items must be clearly labeled with your business name and phone number.\n	There will be no live animal sales.\n\nCancellations\n\n\n	Cancellations should be made 5 days prior to the event (April 4).\n	If anyone does not cancel in a timely manner they will not be allowed to participate in future Shop the Square events. \n	If a vendor has repeated cancellations\, they will not be allowed to participate in future Shop the Square events. \n	Vendors should check the weather forecast by the cancellation deadline and decide to cancel or not. \n	If the Chamber cancels the event due to weather a contingent date for Shop the Square will be selected. Alternatively\, vendors could request a credit to participate in the next Shop the Square event. \n\nVendors are expected to promote Shop the Square on social media.
X-ALT-DESC;FMTTYPE=text/html:<span style="font-size:16px\;"><span style="font-family:arial\;"><span style="color:#318D73\;">On Saturday\, April 9th starting at 10 am we will be at Central City Shopping Center (</span></span></span><span style="color: rgb(49\, 141\, 115)\; font-family: arial\; font-size: 16px\;">13539 Hooper Road</span><span style="font-size:16px\;"><span style="font-family:arial\;"><span style="color:#318D73\;">) with a Central one-stop shop and Health and Fitness Expo.&nbsp\;<br />\n<br />\n<strong>Here&#39\;s what you can expect:&nbsp\;</strong></span></span></span>\n<ul>\n	<li><span style="font-size:16px\;"><span style="font-family:arial\;"><strong><span style="color:#318D73\;">Great shopping</span></strong></span></span></li>\n	<li><span style="font-size:16px\;"><span style="font-family:arial\;"><strong><span style="color:#318D73\;">Community Workouts</span></strong></span></span></li>\n	<li><span style="font-size:16px\;"><span style="font-family:arial\;"><strong><span style="color:#318D73\;">Kids activities</span></strong></span></span></li>\n	<li><span style="font-size:16px\;"><span style="font-family:arial\;"><strong><font color="#318d73">Food Trucks</font></strong></span></span></li>\n	<li><span style="font-size:16px\;"><span style="font-family:arial\;"><strong><font color="#318d73">Music</font></strong></span></span></li>\n</ul>\n<span style="font-size:16px\;"><span style="font-family:arial\;"> <span style="color:#318D73\;">Join all the fun for FREE\, just stop by.<br />\n<br />\nChamber Members can set up a booth for $30.<br />\n<br />\nGuest businesses can set up a booth for only $50. Just click &quot\;Register&quot\; on the right.</span>&nbsp\;</span></span><br />\n<br />\n<span style="color:#008080\;"><strong><span style="font-family: arial\; font-size: 16px\;">FAQ:</span></strong><br />\n<span style="font-family: arial\; font-size: 16px\;">Set up will be from 7:30 am to 9:00 am and takedown will be from 2 pm to 3 pm.<br />\n<br />\nVendors should bring their own tables\, 10x10 tents and decorations.&nbsp\;</span><br />\n<br />\n<span style="font-size: 14px\;"><span style="font-family: arial\;"><strong>Booth Requirements</strong></span></span></span>\n\n<ul>\n	<li><span style="color:#008080\;"><span style="font-size: 14px\;"><span style="font-family: arial\;">Each vendor is responsible for bringing their own tent and table.</span></span></span></li>\n	<li><span style="color:#008080\;"><span style="font-size: 14px\;"><span style="font-family: arial\;">We have designated a spot that will fit a 10 x 10 tent for each vendor.&nbsp\;If you are sharing space and would like to use a larger tent\, please contact us for approval.&nbsp\;</span></span></span></li>\n	<li><span style="color:#008080\;"><span style="font-size: 14px\;"><span style="font-family: arial\;">White tents are preferred.</span></span></span></li>\n	<li><span style="color:#008080\;"><span style="font-size: 14px\;"><span style="font-family: arial\;">Tents must be staked down in case of wind.</span></span></span></li>\n	<li><span style="color:#008080\;"><span style="font-size: 14px\;"><span style="font-family: arial\;">Tent spaces should be kept trash-free. There will be trash cans on site.</span></span></span></li>\n	<li><span style="color:#008080\;"><span style="font-size: 14px\;"><span style="font-family: arial\;">All items must fit within your tent space.&nbsp\;</span></span></span></li>\n	<li><span style="color:#008080\;"><span style="font-size: 14px\;"><span style="font-family: arial\;">We do not have power available.</span></span></span></li>\n</ul>\n<span style="color:#008080\;"><span style="font-size: 14px\;"><span style="font-family: arial\;"><strong>Basic Rules</strong></span></span></span>\n\n<ul>\n	<li><span style="color:#008080\;"><span style="font-size: 14px\;"><span style="font-family: arial\;">Tent placement requests can not be guaranteed.</span></span></span></li>\n	<li><span style="color:#008080\;"><span style="font-size: 14px\;"><span style="font-family: arial\;">You will check-in at the Central Chamber tent upon arrival.&nbsp\;</span></span></span></li>\n	<li><span style="color:#008080\;"><span style="font-size: 14px\;"><span style="font-family: arial\;">Must comply with all state and local laws.&nbsp\;</span></span></span></li>\n	<li><span style="color:#008080\;"><span style="font-size: 14px\;"><span style="font-family: arial\;">No smoking.&nbsp\;</span></span></span></li>\n	<li><span style="color:#008080\;"><span style="font-size: 14px\;"><span style="font-family: arial\;">Vendors should be set up by 9:30 am and you must remain on site until 2 pm.&nbsp\;</span></span></span></li>\n	<li><span style="color:#008080\;"><span style="font-size: 14px\;"><span style="font-family: arial\;">All food items must be clearly labeled with your business name and phone number.</span></span></span></li>\n	<li><span style="color:#008080\;"><span style="font-size: 14px\;"><span style="font-family: arial\;">There will be no live animal sales.</span></span></span></li>\n</ul>\n<span style="color:#008080\;"><span style="font-size: 14px\;"><span style="font-family: arial\;"><strong>Cancellations</strong></span></span></span>\n\n<ul>\n	<li><span style="color:#008080\;"><span style="font-size: 14px\;"><span style="font-family: arial\;">Cancellations should be made 5 days prior to the event (April 4).</span></span></span></li>\n	<li><span style="color:#008080\;"><span style="font-size: 14px\;"><span style="font-family: arial\;">If anyone does not cancel in a timely manner they will not be allowed to participate in future Shop the Square events.&nbsp\;</span></span></span></li>\n	<li><span style="color:#008080\;"><span style="font-size: 14px\;"><span style="font-family: arial\;">If a vendor has repeated&nbsp\;cancellations\, they will not be allowed to participate in future Shop the Square events.&nbsp\;</span></span></span></li>\n	<li><span style="color:#008080\;"><span style="font-size: 14px\;"><span style="font-family: arial\;">Vendors should check the weather forecast by the cancellation deadline and decide to cancel or not.&nbsp\;</span></span></span></li>\n	<li><span style="color:#008080\;"><span style="font-size: 14px\;"><span style="font-family: arial\;">If the Chamber cancels the event due to weather a contingent date for Shop the Square will be selected. Alternatively\, vendors could request a credit to participate in the next Shop the Square event.&nbsp\;</span></span></span></li>\n</ul>\n<span style="color:#008080\;"><span style="font-size: 14px\;"><span style="font-family: arial\;">Vendors are expected to promote Shop the Square on social media.</span></span></span>
LOCATION:Central City Shopping Center 13539 Hooper Road Central\, LA
UID:e.1367.3035
SEQUENCE:3
DTSTAMP:20260423T072852Z
URL:https://business.cityofcentralchamber.com/events/details/spring-into-wellness-and-shop-the-square-3035
END:VEVENT

END:VCALENDAR
