BEGIN:VCALENDAR
VERSION:2.0
PRODID:-//ChamberMaster//Event Calendar 2.0//EN
METHOD:PUBLISH
X-PUBLISHED-TTL:P3D
REFRESH-INTERVAL:P3D
CALSCALE:GREGORIAN
BEGIN:VEVENT
DTSTART:20211009T140000Z
DTEND:20211009T220000Z
X-MICROSOFT-CDO-ALLDAYEVENT:FALSE
SUMMARY:Southern Charm Marketplace | New Owner Celebration
DESCRIPTION:Southern Charm's New Owner Celebration is THIS SATURDAY! \n\n9 am to 5 pm\n\n\n\n  Breakfast on me from Holey Good Donuts!\n\n\n\n  Storewide discounts!\n\n\n\n  Feather and Stone Restorations with beautiful new furniture out on the sidewalk!\n\n\n\n  Door prizes galore!\n\n\n\n  FREEBIES at checkout!\n\n\n\nWill you be there??
X-ALT-DESC;FMTTYPE=text/html:<span style="font-size:16px\;">Southern Charm&#39\;s New Owner Celebration is THIS SATURDAY!&nbsp\;<br />\n9 am to 5 pm<br />\n<br />\n<span font-size:="" segoe="" style="color: rgb(38\, 38\, 38)\; font-family: -apple-system\, BlinkMacSystemFont\, ">&#127809\; Breakfast on me from Holey Good Donuts!</span><br font-size:="" segoe="" style="color: rgb(38\, 38\, 38)\; font-family: -apple-system\, BlinkMacSystemFont\, " />\n<br font-size:="" segoe="" style="color: rgb(38\, 38\, 38)\; font-family: -apple-system\, BlinkMacSystemFont\, " />\n<span font-size:="" segoe="" style="color: rgb(38\, 38\, 38)\; font-family: -apple-system\, BlinkMacSystemFont\, ">&#127809\; Storewide discounts!</span><br font-size:="" segoe="" style="color: rgb(38\, 38\, 38)\; font-family: -apple-system\, BlinkMacSystemFont\, " />\n<br font-size:="" segoe="" style="color: rgb(38\, 38\, 38)\; font-family: -apple-system\, BlinkMacSystemFont\, " />\n<span font-size:="" segoe="" style="color: rgb(38\, 38\, 38)\; font-family: -apple-system\, BlinkMacSystemFont\, ">&#127809\; Feather and Stone Restorations with beautiful new furniture out on the sidewalk!</span><br font-size:="" segoe="" style="color: rgb(38\, 38\, 38)\; font-family: -apple-system\, BlinkMacSystemFont\, " />\n<br font-size:="" segoe="" style="color: rgb(38\, 38\, 38)\; font-family: -apple-system\, BlinkMacSystemFont\, " />\n<span font-size:="" segoe="" style="color: rgb(38\, 38\, 38)\; font-family: -apple-system\, BlinkMacSystemFont\, ">&#127809\; Door prizes galore!</span><br font-size:="" segoe="" style="color: rgb(38\, 38\, 38)\; font-family: -apple-system\, BlinkMacSystemFont\, " />\n<br font-size:="" segoe="" style="color: rgb(38\, 38\, 38)\; font-family: -apple-system\, BlinkMacSystemFont\, " />\n<span font-size:="" segoe="" style="color: rgb(38\, 38\, 38)\; font-family: -apple-system\, BlinkMacSystemFont\, ">&#127809\; FREEBIES at checkout!</span><br font-size:="" segoe="" style="color: rgb(38\, 38\, 38)\; font-family: -apple-system\, BlinkMacSystemFont\, " />\n<br font-size:="" segoe="" style="color: rgb(38\, 38\, 38)\; font-family: -apple-system\, BlinkMacSystemFont\, " />\n<span font-size:="" segoe="" style="color: rgb(38\, 38\, 38)\; font-family: -apple-system\, BlinkMacSystemFont\, ">Will you be there??&nbsp\;</span></span><br />\n&nbsp\;
LOCATION:Southern Charm Marketplace 13421 Hooper Rd Baton Rouge\, LA 70818
UID:e.1367.3013
SEQUENCE:3
DTSTAMP:20260423T172713Z
URL:https://business.cityofcentralchamber.com/events/details/southern-charm-marketplace-new-owner-celebration-3013
END:VEVENT

END:VCALENDAR
