BEGIN:VCALENDAR
VERSION:2.0
PRODID:-//ChamberMaster//Event Calendar 2.0//EN
METHOD:PUBLISH
X-PUBLISHED-TTL:P3D
REFRESH-INTERVAL:P3D
CALSCALE:GREGORIAN
BEGIN:VEVENT
DTSTART:20250705T220000Z
DTEND:20250706T030000Z
X-MICROSOFT-CDO-ALLDAYEVENT:FALSE
SUMMARY:Shop the Square - Red\, White\, & Boom!
DESCRIPTION:Shop the Square Vendor Information\n\n  Event Time: 5:00 PM   10:00 PM\n\n  Vendor Set-Up: Begins at 3:30 PM\n\n  Breakdown: Starts promptly at 10:00 PM\n\nImportant Notes:\n\n\n	\n	All vendors must remain set up for the FULL duration of the event   no early departures allowed\, NO EXCEPTIONS.\n	\n	\n	Vendor spaces are first come\, first served.\n	\n	\n	No power will be provided. Generators are not permitted. Please plan accordingly.\n	\n\n\nThank you for being part of Shop the Square!
X-ALT-DESC;FMTTYPE=text/html:<p data-end="131" data-start="93"><span style="font-size:20px\;"><strong data-end="131" data-start="93">Shop the Square Vendor Information</strong></span></p>\n\n<p data-end="262" data-start="133"><span style="font-size:20px\;">&#128340\; <strong data-end="151" data-start="136">Event Time:</strong> 5:00 PM &ndash\; 10:00 PM<br data-end="173" data-start="170" />\n&#128666\; <strong data-end="194" data-start="176">Vendor Set-Up:</strong> Begins at 3:30 PM<br data-end="215" data-start="212" />\n&#128230\; <strong data-end="232" data-start="218">Breakdown:</strong> Starts promptly at 10:00 PM</span></p>\n\n<p data-end="284" data-start="264"><span style="font-size:20px\;"><strong data-end="284" data-start="264">Important Notes:</strong></span></p>\n\n<ul data-end="538" data-start="286">\n	<li data-end="394" data-start="286">\n	<p data-end="394" data-start="288"><span style="font-size:20px\;">All vendors <strong data-end="344" data-start="300">must remain set up for the FULL&nbsp\;duration</strong> of the event &mdash\; <strong data-end="392" data-start="360">no early departures allowed\, NO EXCEPTIONS.</strong></span></p>\n	</li>\n	<li data-end="446" data-start="395">\n	<p data-end="446" data-start="397"><span style="font-size:20px\;">Vendor spaces are <strong data-end="444" data-start="415">first come\, first served.</strong></span></p>\n	</li>\n	<li data-end="538" data-start="447">\n	<p data-end="538" data-start="449"><span style="font-size:20px\;"><strong data-end="479" data-start="449">No power will be provided.</strong> Generators are <strong data-end="513" data-start="495">not permitted.</strong> Please plan accordingly.</span></p>\n	</li>\n</ul>\n\n<p data-end="584" data-start="540"><span style="font-size:20px\;">Thank you for being part of Shop the Square!</span></p>\n
LOCATION:The Settlement on Shoe Creek 14150 Grand Settlement Blvd.
UID:e.1367.3234
SEQUENCE:3
DTSTAMP:20260420T130608Z
URL:https://business.cityofcentralchamber.com/events/details/shop-the-square-red-white-boom-3234
END:VEVENT

END:VCALENDAR
