BEGIN:VCALENDAR
VERSION:2.0
PRODID:-//ChamberMaster//Event Calendar 2.0//EN
METHOD:PUBLISH
X-PUBLISHED-TTL:P3D
REFRESH-INTERVAL:P3D
CALSCALE:GREGORIAN
BEGIN:VEVENT
DTSTART:20251018T210000Z
DTEND:20251019T010000Z
X-MICROSOFT-CDO-ALLDAYEVENT:FALSE
SUMMARY:Shop the Square - Central's Fall Fest
DESCRIPTION:Shop the Square Vendor Information\n\n  Event Time: 4:00 PM   8:00 PM\n\n  Vendor Set-Up: Begins at 2:00 PM (Food Trucks MUST be on time)\n\n  Breakdown: Starts promptly at 8:00 PM\n\nImportant Notes:\n\n\n	\n	All vendors must remain set up for the FULL duration of the event   no early departures allowed\, NO EXCEPTIONS.\n	\n	\n	Vendor spaces cannot be held without payment\, and spots will be assigned by Chamber staff.\n\n	*If you have a STS Vendor Friend you want to be by\, please put it in the notes or email us!\n	\n	\n	No power will be provided. Generators are not permitted for booth vendors. Please plan accordingly.\n\n	\n\n	*VENDOR AND FOOD TRUCK MAP WILL BE SENT OUT THE WEEK OF*\n	\n\n\nThank you for being part of Shop the Square!
X-ALT-DESC;FMTTYPE=text/html:<p data-end="131" data-start="93" font-size:="" style="color: rgb(51\, 51\, 51)\; font-family: sans-serif\, Arial\, Verdana\, " trebuchet=""><span style="font-size: 20px\;"><strong data-end="131" data-start="93">Shop the Square Vendor Information</strong></span></p>\n\n<p data-end="262" data-start="133" font-size:="" style="color: rgb(51\, 51\, 51)\; font-family: sans-serif\, Arial\, Verdana\, " trebuchet=""><span style="font-size: 20px\;">&#128340\;&nbsp\;<strong data-end="151" data-start="136">Event Time:</strong>&nbsp\;4:00 PM &ndash\; 8:00 PM<br data-end="173" data-start="170" />\n&#128666\;&nbsp\;<strong data-end="194" data-start="176">Vendor Set-Up:</strong>&nbsp\;Begins at 2:00 PM (Food Trucks MUST be on time)<br data-end="215" data-start="212" />\n&#128230\;&nbsp\;<strong data-end="232" data-start="218">Breakdown:</strong>&nbsp\;Starts promptly at 8:00 PM</span></p>\n\n<p data-end="284" data-start="264" font-size:="" style="color: rgb(51\, 51\, 51)\; font-family: sans-serif\, Arial\, Verdana\, " trebuchet=""><span style="font-size: 20px\;"><strong data-end="284" data-start="264">Important Notes:</strong></span></p>\n\n<ul data-end="538" data-start="286" font-size:="" style="padding: 0px 40px\; color: rgb(51\, 51\, 51)\; font-family: sans-serif\, Arial\, Verdana\, " trebuchet="">\n	<li data-end="394" data-start="286">\n	<p data-end="394" data-start="288"><span style="font-size: 20px\;">All vendors&nbsp\;<strong data-end="344" data-start="300">must remain set up for the FULL&nbsp\;duration</strong>&nbsp\;of the event &mdash\;&nbsp\;<strong data-end="392" data-start="360">no early departures allowed\, NO EXCEPTIONS.</strong></span></p>\n	</li>\n	<li data-end="446" data-start="395">\n	<p data-end="446" data-start="397"><span style="font-size: 20px\;">Vendor spaces cannot be held without payment\, and spots will be assigned by Chamber staff<strong data-end="444" data-start="415">.<br />\n	*If you have a STS Vendor Friend&nbsp\;you want to be by\, please put it&nbsp\;in the notes or email us!</strong></span></p>\n	</li>\n	<li data-end="538" data-start="447">\n	<p data-end="538" data-start="449"><span style="font-size: 20px\;"><strong data-end="479" data-start="449">No power will be provided.</strong>&nbsp\;Generators are&nbsp\;<strong data-end="513" data-start="495">not permitted for booth vendors.</strong>&nbsp\;Please plan accordingly.<br />\n	<br />\n	<strong><span style="background-color:#00FF00\;">*VENDOR AND FOOD TRUCK MAP WILL BE SENT OUT THE WEEK OF*</span></strong></span></p>\n	</li>\n</ul>\n\n<p data-end="584" data-start="540" font-size:="" style="color: rgb(51\, 51\, 51)\; font-family: sans-serif\, Arial\, Verdana\, " trebuchet=""><span style="font-size: 20px\;">Thank you for being part of Shop the Square!</span></p>\n
LOCATION:The Settlement on Shoe Creek 14150 Grand Settlement Blvd.
UID:e.1367.3243
SEQUENCE:3
DTSTAMP:20260420T074816Z
URL:https://business.cityofcentralchamber.com/events/details/shop-the-square-central-s-fall-fest-3243
END:VEVENT

END:VCALENDAR
