BEGIN:VCALENDAR
VERSION:2.0
PRODID:-//ChamberMaster//Event Calendar 2.0//EN
METHOD:PUBLISH
X-PUBLISHED-TTL:P3D
REFRESH-INTERVAL:P3D
CALSCALE:GREGORIAN
BEGIN:VEVENT
DTSTART:20210321T180000Z
DTEND:20210321T230000Z
X-MICROSOFT-CDO-ALLDAYEVENT:FALSE
SUMMARY:Shop the Square
DESCRIPTION:We had such a blast at Shop the Block in December (thank you Body Sculpt Barre!) that we're bringing it back! \n\n\n\nOn March 21 starting at 1 pm we will be at Central Square (14340 Wax Rd) with a Central one-stop-shop.\n\n\n\nHere's what you can expect: \n\n	Great shopping\n	Kids activities\n	Easter Bunny pictures\n	Food and ice cream trucks (thank you Red River Bank)\n	Music\n	A grown-up Easter egg hunt for prizes\n\n Join all the fun for FREE\, just stop by.\n\n\n\nChamber Members can set up a booth for FREE. Just click "Register" on the right. \n\n\n\nGuest businesses can set up a booth for only $30. Just click "Register" on the right. \n\n\n\nFAQ:\n\nSet up will be from 11 am to 1 pm and take down will be from 6 pm to 7 pm.\n\nVendors should bring their own tables\, tents and decorations.
X-ALT-DESC;FMTTYPE=text/html:<span style="font-size:16px\;"><span style="font-family:arial\;"><span style="color:#318D73\;">We had such a blast at Shop the Block in December (thank you Body Sculpt Barre!) that we&#39\;re bringing it back!&nbsp\;<br />\n<br />\nOn March 21 starting at 1 pm we will be at Central Square (</span></span></span><span style="color: rgb(49\, 141\, 115)\; font-family: arial\; font-size: 16px\;">14340 Wax Rd</span><span style="font-size:16px\;"><span style="font-family:arial\;"><span style="color:#318D73\;">) with a Central one-stop-shop.<br />\n<br />\n<strong>Here&#39\;s what you can expect:&nbsp\;</strong></span></span></span>\n<ul>\n	<li><span style="font-size:16px\;"><span style="font-family:arial\;"><strong><span style="color:#318D73\;">Great shopping</span></strong></span></span></li>\n	<li><span style="font-size:16px\;"><span style="font-family:arial\;"><strong><span style="color:#318D73\;">Kids activities</span></strong></span></span></li>\n	<li><span style="font-size:16px\;"><span style="font-family:arial\;"><strong><span style="color:#318D73\;">Easter Bunny pictures</span></strong></span></span></li>\n	<li><span style="font-size:16px\;"><span style="font-family:arial\;"><strong><font color="#318d73">Food and ice cream trucks (thank you Red River Bank)</font></strong></span></span></li>\n	<li><span style="font-size:16px\;"><span style="font-family:arial\;"><strong><font color="#318d73">Music</font></strong></span></span></li>\n	<li><span style="font-size:16px\;"><span style="font-family:arial\;"><strong><font color="#318d73">A grown-up Easter egg hunt for prizes</font></strong></span></span></li>\n</ul>\n<span style="font-size:16px\;"><span style="font-family:arial\;"> <span style="color:#318D73\;">Join all the fun for FREE\, just stop by.<br />\n<br />\nChamber Members can set up a booth for FREE. Just click &quot\;Register&quot\; on the right.&nbsp\;<br />\n<br />\nGuest businesses can set up a booth for only $30. Just click &quot\;Register&quot\; on the right.</span>&nbsp\;</span></span><br />\n<br />\n<strong><span style="color: rgb(49\, 141\, 115)\; font-family: arial\; font-size: 16px\;">FAQ:</span></strong><br />\n<span style="color: rgb(49\, 141\, 115)\; font-family: arial\; font-size: 16px\;">Set up will be from 11 am to 1 pm and take down will be from 6 pm to 7 pm.<br />\nVendors should bring their own tables\, tents and decorations.&nbsp\;</span>
LOCATION:Central Square 14340 Wax Rd Central\, LA 70818
UID:e.1367.2976
SEQUENCE:3
DTSTAMP:20260424T025855Z
URL:https://business.cityofcentralchamber.com/events/details/shop-the-square-2976
END:VEVENT

END:VCALENDAR
