BEGIN:VCALENDAR
VERSION:2.0
PRODID:-//ChamberMaster//Event Calendar 2.0//EN
METHOD:PUBLISH
X-PUBLISHED-TTL:P3D
REFRESH-INTERVAL:P3D
CALSCALE:GREGORIAN
BEGIN:VEVENT
DTSTART;VALUE=DATE:20241123
DTEND;VALUE=DATE:20241124
TRANSP:TRANSPARENT
X-MICROSOFT-CDO-ALLDAYEVENT:TRUE
SUMMARY:Shop Central First Christmas Campaign 2024
DESCRIPTION:Shop Small Business: Central Christmas Campaign  \n\nThis holiday season\, support your local businesses while checking off your Christmas shopping list and you could win a shopping spree! It's a win-win-win!\n\nHow It Works:\n\n\n	Get Your Punch Card: Visit any participating Central store and ask for a punch card.\n	Shop Local: Make purchases at local businesses to collect punches on your card.\n	Enter to Win: Once your card is filled\, you'll be entered into our shopping spree giveaway!\n\n\nCalling All Central Businesses! Join the festive fun! Register today to promote your business and give your customers a chance to win big.\n\nLet's make this holiday season special by supporting our community and celebrating local businesses! Happy shopping!
X-ALT-DESC;FMTTYPE=text/html:<p><span style="font-size:20px\;">&#127876\; <strong>Shop Small Business: Central Christmas Campaign</strong> &#127876\;</span></p>\n\n<p><span style="font-size:14px\;">This holiday season\, support your local businesses while checking off your Christmas shopping list&mdash\;and you could win a shopping spree! It&rsquo\;s a win-win-win!</span></p>\n\n<p><span style="font-size:18px\;"><strong>How It Works:</strong></span></p>\n\n<ol>\n	<li><span style="font-size:16px\;"><strong>Get Your Punch Card:</strong></span> <span style="font-size:14px\;">Visit any participating Central store and ask for a punch card.</span></li>\n	<li><span style="font-size:16px\;"><strong>Shop Local:</strong></span> <span style="font-size:14px\;">Make purchases at local businesses to collect punches on your card.</span></li>\n	<li><span style="font-size:16px\;"><strong>Enter to Win:</strong></span> <span style="font-size:14px\;">Once your card is filled\, you&rsquo\;ll be entered into our shopping spree giveaway!</span></li>\n</ol>\n\n<p><span style="font-size:16px\;"><strong>Calling All Central Businesses!</strong></span> <span style="font-size:14px\;">Join the festive fun! Register today to promote your business and give your customers a chance to win big.</span></p>\n\n<p><span style="font-size:14px\;">Let&rsquo\;s make this holiday season special by supporting our community and celebrating local businesses! Happy shopping! &#128717\;&#65039\;&#10024\;</span></p>\n
LOCATION:Where? THE CITY OF CENTRAL!
UID:e.1367.3208
SEQUENCE:3
DTSTAMP:20260421T003130Z
URL:https://business.cityofcentralchamber.com/events/details/shop-central-first-christmas-campaign-2024-3208
END:VEVENT

END:VCALENDAR
