BEGIN:VCALENDAR
VERSION:2.0
PRODID:-//ChamberMaster//Event Calendar 2.0//EN
METHOD:PUBLISH
X-PUBLISHED-TTL:P3D
REFRESH-INTERVAL:P3D
CALSCALE:GREGORIAN
BEGIN:VEVENT
DTSTART:20240424T170000Z
DTEND:20240424T180000Z
X-MICROSOFT-CDO-ALLDAYEVENT:FALSE
SUMMARY:Scholarship Award Banquet
DESCRIPTION:
X-ALT-DESC;FMTTYPE=text/html:
LOCATION:La Belle Pearl Events 6691 Sullivan Road\, Central\,LA 70739
UID:e.1367.3168
SEQUENCE:3
DTSTAMP:20260421T132505Z
URL:https://business.cityofcentralchamber.com/events/details/scholarship-award-banquet-3168
END:VEVENT

END:VCALENDAR
