BEGIN:VCALENDAR
VERSION:2.0
PRODID:-//ChamberMaster//Event Calendar 2.0//EN
METHOD:PUBLISH
X-PUBLISHED-TTL:P3D
REFRESH-INTERVAL:P3D
CALSCALE:GREGORIAN
BEGIN:VEVENT
DTSTART:20220426T170000Z
DTEND:20220426T180000Z
X-MICROSOFT-CDO-ALLDAYEVENT:FALSE
SUMMARY:Scholarship Award Banquet
DESCRIPTION:We are excited to recognize the recipients of the Central Chamber Scholarships for 2022 with their special guests and representatives of the Central Chamber of Commerce. \n\n\n\nCongratulations to: \nCayden Walls from Central High School\n\nSarah Isreal from Central Private School\n\nSkyler Hale from Central High School\n\nGrayson Wendt from Central High School
X-ALT-DESC;FMTTYPE=text/html:<span style="font-size:14px\;"><span style="font-family:arial\;">We are excited to recognize the recipients of the Central Chamber Scholarships for 2022 with their special guests and representatives of the Central Chamber of Commerce.&nbsp\;<br />\n<br />\nCongratulations to:&nbsp\;</span></span>\n<div align="center" style="text-align: center\;"><span style="font-size:14px\;"><span style="font-family:arial\;"><span style="color: rgb(0\, 0\, 0)\; font-weight: bold\;">Cayden Walls from Central High School</span></span></span></div>\n\n<div align="center" style="text-align: center\;"><font color="#000000" face="arial"><span style="font-size: 14px\;"><b>Sarah Isreal from Central Private School<br />\nSkyler Hale from Central High School<br />\nGrayson Wendt from Central High School</b></span></font></div>\n\n<div>&nbsp\;</div>\n
LOCATION:TBA
UID:e.1367.3060
SEQUENCE:3
DTSTAMP:20260423T055726Z
URL:https://business.cityofcentralchamber.com/events/details/scholarship-award-banquet-3060
END:VEVENT

END:VCALENDAR
