BEGIN:VCALENDAR
VERSION:2.0
PRODID:-//ChamberMaster//Event Calendar 2.0//EN
METHOD:PUBLISH
X-PUBLISHED-TTL:P3D
REFRESH-INTERVAL:P3D
CALSCALE:GREGORIAN
BEGIN:VEVENT
DTSTART:20210422T170000Z
DTEND:20210422T180000Z
X-MICROSOFT-CDO-ALLDAYEVENT:FALSE
SUMMARY:Scholarship Award Banquet
DESCRIPTION:We are excited to recognize the recipients of the Central Chamber Scholarships for 2021 with their special guests and representatives of the Central Chamber of Commerce. \n\n\n\nCongratulations to: \nMorgan from Central High School\n\nMichael from Catholic High School\n\nLauren from Central Private
X-ALT-DESC;FMTTYPE=text/html:<span style="font-size:14px\;"><span style="font-family:arial\;">We are excited to recognize the recipients of the Central Chamber Scholarships for 2021 with their special guests and representatives of the Central Chamber of Commerce.&nbsp\;<br />\n<br />\nCongratulations to:&nbsp\;</span></span>\n<div align="center" style="text-align: center\;"><span style="font-size:14px\;"><span style="font-family:arial\;"><span style="color: rgb(0\, 0\, 0)\; font-weight: bold\;">Morgan from Central High School</span></span></span></div>\n\n<div align="center" style="text-align: center\;"><span style="font-size:14px\;"><span style="font-family:arial\;"><span style="color: rgb(0\, 0\, 0)\; font-weight: bold\;">Michael from Catholic High School</span></span></span></div>\n\n<div align="center" style="text-align: center\;"><span style="font-size:14px\;"><span style="font-family:arial\;"><span style="color: rgb(0\, 0\, 0)\; font-weight: bold\;">Lauren from Central Private</span></span></span></div>\n\n<div>&nbsp\;</div>\n
LOCATION:Stab's Steak & Seafood 13438 Magnolia Square Drive Suite A Central\, LA 70818
UID:e.1367.2982
SEQUENCE:3
DTSTAMP:20260424T025837Z
URL:https://business.cityofcentralchamber.com/events/details/scholarship-award-banquet-2982
END:VEVENT

END:VCALENDAR
