BEGIN:VCALENDAR
VERSION:2.0
PRODID:-//ChamberMaster//Event Calendar 2.0//EN
METHOD:PUBLISH
X-PUBLISHED-TTL:P3D
REFRESH-INTERVAL:P3D
CALSCALE:GREGORIAN
BEGIN:VEVENT
DTSTART;VALUE=DATE:20250401
DTEND;VALUE=DATE:20250402
TRANSP:TRANSPARENT
X-MICROSOFT-CDO-ALLDAYEVENT:TRUE
SUMMARY:Scholarship Application Deadline
DESCRIPTION:Apply Now for Scholarship Opportunities!\n\n\n\nCongratulations on reaching your senior year of high school an incredible milestone in your academic journey! The City of Central Chamber of Commerce commends your achievements and wishes you continued success in your future endeavors.\n\n\n\nAs part of our commitment to fostering a strong workforce and education partnership\, we proudly support students in pursuing their career aspirations.\n\n\n\nOne of the ways we fulfill this mission is through our scholarship program\, designed to assist Central students in achieving their educational goals. Last year\, we awarded four outstanding seniors with $1\,500 scholarships. Additionally\, we actively participate in the recognition of the Student and Teacher of the Year.\n\n \n\nAcademic Scholarship:\n\nAwarded to a public or private school student who demonstrates exceptional academic achievement and is eager to pursue a university degree.\n\nTechnical Scholarship:\n\nDesigned for students who have embraced hands-on\, real-world education and are seeking further career training in a technical field.\n\nOvercomer Scholarship:\n\nRecognizing students who have achieved remarkable accomplishments despite facing significant obstacles and challenges.\n\n\n\nThe applicant must complete and submit the signed scholarship application in its entirety by the designated deadline. As this is an online application\, in-person submissions are not required.\n\n\n\nClick here for the application!\n\n\n\nThis program is made possible through the generous support of our education sponsors. If you are interested in sponsoring a scholarship and making a meaningful impact on students' futures\, click here to learn more.
X-ALT-DESC;FMTTYPE=text/html:<p style="margin: 6px 0px 0px\; display: inline\; font-family: Helvetica\, Arial\, sans-serif\; color: rgb(29\, 33\, 41)\; font-size: 14px\;"><span style="font-family:tahoma\;"><a href="https://form.jotform.com/243465462258159"><strong><span style="font-size:18px\;">Apply Now for Scholarship Opportunities!</span></strong></a><br />\n<br />\n<span style="font-size:16px\;">Congratulations on reaching your senior year of high school&mdash\;an incredible milestone in your academic journey! The City of Central Chamber of Commerce commends your achievements and wishes you continued success in your future endeavors.<br />\n<br />\nAs part of our commitment to fostering a strong workforce and education partnership\, we proudly support students in pursuing their career aspirations.<br />\n<br />\nOne of the ways we fulfill this mission is through our scholarship program\, designed to assist Central students in achieving their educational goals. Last year\, we awarded four outstanding seniors with $1\,500 scholarships. Additionally\, we actively participate in the recognition of the Student and Teacher of the Year.</span></span><br />\n&nbsp\;</p>\n\n<p class="cvGsUA direction-ltr align-center para-style-body" style="color: rgb(5\, 10\, 48)\; font-family: &quot\;YAFdJs2qTWQ 0&quot\;\, _fb_\, auto\; --cyV3ZQ: 19.6742px\; --gJPlXQ: 1.4\; letter-spacing: -0.025em\; line-height: 27px\;"><span style="font-size:18px\;"><span style="font-family:tahoma\;"><span class="OYPEnA font-feature-liga-off font-feature-clig-off font-feature-calt-off text-decoration-none text-strikethrough-none" style="font-weight: 700\; font-kerning: none\;">Academic Scholarship:</span></span></span></p>\n\n<p class="cvGsUA direction-ltr align-center para-style-body" style="color: rgb(5\, 10\, 48)\; font-family: &quot\;YAFdJs2qTWQ 0&quot\;\, _fb_\, auto\; --cyV3ZQ: 19.6742px\; --gJPlXQ: 1.4\; letter-spacing: -0.025em\; line-height: 27px\;"><span style="font-family:tahoma\;"><span style="font-size:16px\;"><span class="OYPEnA font-feature-liga-off font-feature-clig-off font-feature-calt-off text-decoration-none text-strikethrough-none" style="font-kerning: none\;">Awarded to a public or private school student who demonstrates exceptional academic achievement and is eager to pursue a university degree.</span></span></span></p>\n\n<p class="cvGsUA direction-ltr align-center para-style-body" style="color: rgb(5\, 10\, 48)\; font-family: &quot\;YAFdJs2qTWQ 0&quot\;\, _fb_\, auto\; --cyV3ZQ: 19.6742px\; --gJPlXQ: 1.4\; letter-spacing: -0.025em\; line-height: 27px\;"><span style="font-size:18px\;"><span style="font-family:tahoma\;"><span class="OYPEnA font-feature-liga-off font-feature-clig-off font-feature-calt-off text-decoration-none text-strikethrough-none" style="font-weight: 700\; font-kerning: none\;">Technical Scholarship:</span></span></span></p>\n\n<p class="cvGsUA direction-ltr align-center para-style-body" style="color: rgb(5\, 10\, 48)\; font-family: &quot\;YAFdJs2qTWQ 0&quot\;\, _fb_\, auto\; --cyV3ZQ: 19.6742px\; --gJPlXQ: 1.4\; letter-spacing: -0.025em\; line-height: 27px\;"><span style="font-size:16px\;"><span style="font-family:tahoma\;"><span class="OYPEnA font-feature-liga-off font-feature-clig-off font-feature-calt-off text-decoration-none text-strikethrough-none" style="font-kerning: none\;">Designed for students who have embraced hands-on\, real-world education and are seeking further career training in a technical field.</span></span></span></p>\n\n<p class="cvGsUA direction-ltr align-center para-style-body" style="color: rgb(5\, 10\, 48)\; font-family: &quot\;YAFdJs2qTWQ 0&quot\;\, _fb_\, auto\; --cyV3ZQ: 19.6742px\; --gJPlXQ: 1.4\; letter-spacing: -0.025em\; line-height: 27px\;"><span style="font-size:18px\;"><span style="font-family:tahoma\;"><span class="OYPEnA font-feature-liga-off font-feature-clig-off font-feature-calt-off text-decoration-none text-strikethrough-none" style="font-weight: 700\; font-kerning: none\;">Overcomer Scholarship:</span></span></span></p>\n\n<p class="cvGsUA direction-ltr align-center para-style-body" style="color: rgb(5\, 10\, 48)\; font-family: &quot\;YAFdJs2qTWQ 0&quot\;\, _fb_\, auto\; --cyV3ZQ: 19.6742px\; --gJPlXQ: 1.4\; letter-spacing: -0.025em\; line-height: 27px\;"><span style="font-size:16px\;"><span style="font-family:tahoma\;"><span class="OYPEnA font-feature-liga-off font-feature-clig-off font-feature-calt-off text-decoration-none text-strikethrough-none" style="font-kerning: none\;">Recognizing students who have achieved remarkable accomplishments despite facing significant obstacles and challenges.</span></span></span><br />\n<br />\n<span style="font-family: sans-serif\, Arial\, Verdana\, &quot\;Trebuchet MS&quot\;\; font-size: 16px\;">The applicant must complete and submit the signed scholarship application in its entirety by the designated deadline. As this is an online application\, in-person submissions are not required.</span><br style="color: rgb(51\, 51\, 51)\; font-family: sans-serif\, Arial\, Verdana\, &quot\;Trebuchet MS&quot\;\; font-size: 13px\;" />\n<br style="color: rgb(51\, 51\, 51)\; font-family: sans-serif\, Arial\, Verdana\, &quot\;Trebuchet MS&quot\;\; font-size: 13px\;" />\n<a href="https://form.jotform.com/243465462258159"><span style="font-family: sans-serif\, Arial\, Verdana\, &quot\;Trebuchet MS&quot\;\; font-size: 18px\;"><span style="font-family: tahoma\;"><b>Click here for the application!</b></span></span></a><br />\n<br />\n<span style="font-family: tahoma\; font-size: 16px\; letter-spacing: -0.325px\; background-color: rgb(255\, 255\, 255)\;">This program is made possible through the generous support of our education sponsors. If you are interested in sponsoring a scholarship and making a meaningful impact on students&rsquo\; futures\,&nbsp\;</span><u><strong style="color: rgb(5\, 10\, 48)\; font-family: tahoma\; font-size: 16px\; letter-spacing: -0.325px\; background-color: rgb(255\, 255\, 255)\;">click here to learn more.</strong></u></p>\n
LOCATION:Central Chamber of Commerce 12416 Hooper Rd Central\, LA 70818
UID:e.1367.3216
SEQUENCE:3
DTSTAMP:20260420T161822Z
URL:https://business.cityofcentralchamber.com/events/details/scholarship-application-deadline-3216
END:VEVENT

END:VCALENDAR
