BEGIN:VCALENDAR
VERSION:2.0
PRODID:-//ChamberMaster//Event Calendar 2.0//EN
METHOD:PUBLISH
X-PUBLISHED-TTL:P3D
REFRESH-INTERVAL:P3D
CALSCALE:GREGORIAN
BEGIN:VEVENT
DTSTART:20220304T103000Z
DTEND:20220304T223000Z
X-MICROSOFT-CDO-ALLDAYEVENT:FALSE
SUMMARY:Scholarship Application Deadline!
DESCRIPTION:Click here for the application!\n\n\n\nCongratulations on reaching your senior year of high school - what a great milestone in your life! The Central Chamber of Commerce is proud of your achievement and wishes you the best as you move forward.\n\n\n\nClick here for the application! \n\n \nPart of our mission to promote a pro-business environment includes developing a workforce and education partnership.\n\nOne way we do that is through scholarships for Central students to help them pursue their career goals. Last year we awarded $1\,250 in scholarships as well as took part in the Student and Teacher of the Year recognitions.\n\n \n\nThis program is possible through our education sponsors. If you would like to sponsor a scholarship\, click here.
X-ALT-DESC;FMTTYPE=text/html:<b><a href="https://chambermaster.blob.core.windows.net/userfiles/UserFiles/chambers/1367/File/Education/2022ChamberScholarship.pdf">Click here for the application</a>!</b><br />\n<br />\n<span style="font-family:arial\;"><span style="font-size:14px\;">Congratulations on reaching your senior year of high school - what a great milestone in your life! The Central Chamber of Commerce is proud of your achievement and wishes you the best as you move forward.</span></span><br />\n<br />\n<b><a href="https://chambermaster.blob.core.windows.net/userfiles/UserFiles/chambers/1367/File/Education/2022ChamberScholarship.pdf">Click here for the application</a>!&nbsp\;</b><br />\n&nbsp\;\n<p style="margin: 0px 0px 6px\; font-family: Helvetica\, Arial\, sans-serif\; color: rgb(29\, 33\, 41)\; font-size: 14px\;"><span style="font-family:arial\;">Part of our mission to promote a pro-business environment includes developing a workforce and education partnership.</span></p>\n\n<p style="margin: 6px 0px\; font-family: Helvetica\, Arial\, sans-serif\; color: rgb(29\, 33\, 41)\; font-size: 14px\;"><span style="font-family:arial\;">One way we do that is through scholarships for Central students to help them pursue their career goals. Last year we awarded $1\,250 in scholarships as well as took part in the Student and Teacher of the Year recognitions.</span><br />\n&nbsp\;</p>\n\n<p style="margin: 6px 0px 0px\; display: inline\; font-family: Helvetica\, Arial\, sans-serif\; color: rgb(29\, 33\, 41)\; font-size: 14px\;"><span style="font-family:arial\;">This program is possible through our education sponsors. If you would like to sponsor a scholarship\,<a href="http://members.cityofcentralchamber.com/events/details/education-sponsorship-deadline-3003"> </a><a href="http://members.cityofcentralchamber.com/events/details/education-sponsorship-deadline-2972">click here</a><a href="http://members.cityofcentralchamber.com/events/details/education-sponsorship-deadline-3003">.</a></span></p>\n
LOCATION:Click here for the application! The applicant must submit the completed and signed scholarship application to the School's Counselor's Office or the Central Chamber. Central Chamber of Commerce 12416 Hooper Rd Central\, LA 70818
UID:e.1367.3027
SEQUENCE:3
DTSTAMP:20260423T072836Z
URL:https://business.cityofcentralchamber.com/events/details/scholarship-application-deadline-3027
END:VEVENT

END:VCALENDAR
