BEGIN:VCALENDAR
VERSION:2.0
PRODID:-//ChamberMaster//Event Calendar 2.0//EN
METHOD:PUBLISH
X-PUBLISHED-TTL:P3D
REFRESH-INTERVAL:P3D
CALSCALE:GREGORIAN
BEGIN:VEVENT
DTSTART;VALUE=DATE:20200313
DTEND;VALUE=DATE:20200314
TRANSP:TRANSPARENT
X-MICROSOFT-CDO-ALLDAYEVENT:TRUE
SUMMARY:Scholarship Application Deadline
DESCRIPTION:Congratulations on reaching your senior year of high school - what a great milestone in your life! The Central Chamber of Commerce is proud of your achievement and wish you the best as you move forward.\n\n\n\nClick here to apply for a Central Chamber of Commerce Scholarship.
X-ALT-DESC;FMTTYPE=text/html:<span style="font-size:14px\;">Congratulations on reaching your senior year of high school - what a great milestone in your life! The Central Chamber of Commerce is proud of your achievement and wish you the best as you move forward.<br />\n<br />\n<strong><a href="https://chambermaster.blob.core.windows.net/userfiles/UserFiles/chambers/1367/CMS/Scholarship/2020-Central-Chamber-Scholarship-A.pdf">Click here to apply for a Central Chamber of Commerce Scholarship.</a></strong></span>
LOCATION:The applicant must submit the completed and signed scholarship application to the School's Counselor's Office or the Central Chamber.
UID:e.1367.2951
SEQUENCE:3
DTSTAMP:20260424T220809Z
URL:https://business.cityofcentralchamber.com/events/details/scholarship-application-deadline-2951
END:VEVENT

END:VCALENDAR
