BEGIN:VCALENDAR
VERSION:2.0
PRODID:-//ChamberMaster//Event Calendar 2.0//EN
METHOD:PUBLISH
X-PUBLISHED-TTL:P3D
REFRESH-INTERVAL:P3D
CALSCALE:GREGORIAN
BEGIN:VEVENT
DTSTART;VALUE=DATE:20211120
DTEND;VALUE=DATE:20211121
TRANSP:TRANSPARENT
X-MICROSOFT-CDO-ALLDAYEVENT:TRUE
SUMMARY:Santa Visits J Lane Boutique
DESCRIPTION:Santa is coming to J Lane Boutique\n\nNovember 20th from 2 to 4 pm\n\n\n\nFree Santa photos!\n\nLetters to Santa! \n\nA live band! \n\nMore!
X-ALT-DESC;FMTTYPE=text/html:<span style="font-size:18px\;">Santa is coming to J Lane Boutique<br />\nNovember 20th from 2 to 4 pm<br />\n<br />\nFree Santa photos!<br />\nLetters to Santa!&nbsp\;<br />\nA live band!&nbsp\;<br />\nMore!</span>
LOCATION:J Lane Boutique 14350 Wax Rd #108 Central\, LA 70818
UID:e.1367.3021
SEQUENCE:3
DTSTAMP:20260423T150441Z
URL:https://business.cityofcentralchamber.com/events/details/santa-visits-j-lane-boutique-3021
END:VEVENT

END:VCALENDAR
