BEGIN:VCALENDAR
VERSION:2.0
PRODID:-//ChamberMaster//Event Calendar 2.0//EN
METHOD:PUBLISH
X-PUBLISHED-TTL:P3D
REFRESH-INTERVAL:P3D
CALSCALE:GREGORIAN
BEGIN:VEVENT
DTSTART:20200513T170000Z
DTEND:20200513T180000Z
X-MICROSOFT-CDO-ALLDAYEVENT:FALSE
SUMMARY:Safe to Return: Webinar from Ochsner
DESCRIPTION:Are you wondering how to reopen in a way that keeps customers and employees safe? Or how to communicate to the public that you have opened safely so they feel confident patronizing your business? \n\n \n\nOchsner's Dr. Aldo Russo is holding a webinar for Central Chamber members to discuss best practices for opening safely and confidently.\n\n\n\nAbout Dr. Russo: \n\nDr. Russo received his undergraduate degree and medical degree from Universidad Nacional Pedro Henriquez Urena in Santo Domingo\, Dominican Republic. Following this\, he completed his Internship and Residency at Danbury Hospital in Danbury\, Connecticut. He completed his Fellowship in Gastroenterology at LSU Medical Center in New Orleans in 2000. Dr. Russo is board certified by the American Board of Internal Medicine and Gastroenterology and has been on staff since January 2005. After serving as Section Head of the Gastroenterology Department and Associate Medical Director of Specialty Services\, Dr. Russo was appointed to Medical Director for the Baton Rouge region in January 2018.
X-ALT-DESC;FMTTYPE=text/html:<span style="font-size:16px\;"><span style="font-family:arial\;"><span style="color:black\;">Are you wondering how to reopen in a way that keeps customers and employees safe? Or how to communicate to the public that you have opened safely so they feel confident patronizing your business? </span><br />\n&nbsp\;<br />\n<span style="color:black\;">Ochsner&#39\;s Dr. Aldo Russo is holding a webinar for Central Chamber members to discuss best practices for opening safely and confidently.</span><br />\n<br />\n<strong>About Dr. Russo:&nbsp\;</strong></span></span><br />\n<span style="color:black\;"><span style="font-family:century gothic\,sans-serif\;"><span style="font-size:12.0pt\;">Dr. Russo received his undergraduate degree and medical degree from Universidad Nacional Pedro Henriquez Urena in Santo Domingo\, Dominican Republic.&nbsp\;Following this\, he completed his Internship and Residency at Danbury Hospital in Danbury\, Connecticut.&nbsp\;He completed his Fellowship in Gastroenterology at LSU Medical Center in New Orleans in 2000.&nbsp\;Dr. Russo is board certified by the American Board of Internal Medicine and Gastroenterology and has been on staff since January 2005.&nbsp\;After serving as Section Head of the Gastroenterology Department and Associate Medical Director of Specialty Services\, Dr. Russo was appointed to Medical Director for the Baton Rouge region in January 2018.&nbsp\;</span></span></span>
LOCATION:Join Zoom Meeting https://ochsner.zoom.us/j/92437937607?pwd=ZTlCNmI2akpUZ09VYXJnVHFBVS9IQT09 Please see your Central Chamber newsletter for the Meeting ID. Nonmembers are welcome\, please contact the Chamber office for the Meeting ID. If you have not used Zoom this video shows you how to join a call. Feel free to contact us if you have any questions.
UID:e.1367.2954
SEQUENCE:3
DTSTAMP:20260424T191451Z
URL:https://business.cityofcentralchamber.com/events/details/safe-to-return-webinar-from-ochsner-2954
END:VEVENT

END:VCALENDAR
