BEGIN:VCALENDAR
VERSION:2.0
PRODID:-//ChamberMaster//Event Calendar 2.0//EN
METHOD:PUBLISH
X-PUBLISHED-TTL:P3D
REFRESH-INTERVAL:P3D
CALSCALE:GREGORIAN
BEGIN:VEVENT
DTSTART:20211120T130000Z
DTEND:20211120T180000Z
X-MICROSOFT-CDO-ALLDAYEVENT:FALSE
SUMMARY:Running of the Elves 5K
DESCRIPTION:Runners may register by following this link:\n\nhttps://runsignup.com/Race/LA/Central/ElfRun5K\n\n\n\nVendors and t-shirt sponsors may click the "Register" button on the right.\n\nBusinesses wishing to participate in the pancake cook-off can register here. \n\n\n\nParticipate in the 7th Annual Running of the Elves. Have a holly jolly time in Central. All Elf Runners are encouraged to dress merry and bright. Participants registered by November 6 will receive an elf hat and a t-shirt. \n\n	There will be no sales permitted at the Elf Run.\n	There is no charge to be a vendor and all vendors are required to host an activity or giveaway an item valued at at least $1.
X-ALT-DESC;FMTTYPE=text/html:<span style="font-size:18px\;"><span style="color:#B22222\;"><strong>Runners may register&nbsp\;by following this link:</strong></span><br />\n<strong><a href="https://runsignup.com/Race/LA/Central/ElfRun5K"><span style="color:#006400\;">https://runsignup.com/Race/LA/Central/ElfRun5K</span></a></strong></span><br />\n<br />\n<strong style="color: rgb(178\, 34\, 34)\; font-size: 18px\;">Vendors and t-shirt sponsors may click the &quot\;Register&quot\; button on the right.<br />\nBusinesses wishing to participate in the pancake cook-off can register here.&nbsp\;</strong><br />\n<br />\n<span style="color: rgb(178\, 34\, 34)\; font-size: 16px\;">Participate in the 7th Annual Running of the Elves.&nbsp\;</span><span background-color:="" font-size:="" segoe="" style="color: rgb(178\, 34\, 34)\; font-size: 16px\;" ui="">Have a holly jolly time in Central. All Elf Runners are encouraged to dress merry and bright.</span><span style="color: rgb(178\, 34\, 34)\; font-size: 16px\;">&nbsp\;Participants registered by November 6 will receive an elf hat and a t-shirt.&nbsp\;</span>\n<ul>\n	<li><span style="color: rgb(178\, 34\, 34)\; font-size: 16px\;">There will be no sales permitted at the Elf Run.</span></li>\n	<li><span style="color: rgb(178\, 34\, 34)\; font-size: 16px\;">There is no charge to be a vendor and all vendors are required to host an activity or giveaway an item valued at at least $1.</span></li>\n</ul>\n<br />\n&nbsp\;
LOCATION:Central High School Football Stadium 13845 Hooper Rd Central\, LA
UID:e.1367.2991
SEQUENCE:3
DTSTAMP:20260423T132603Z
URL:https://business.cityofcentralchamber.com/events/details/running-of-the-elves-5k-2991
END:VEVENT

END:VCALENDAR
