BEGIN:VCALENDAR
VERSION:2.0
PRODID:-//ChamberMaster//Event Calendar 2.0//EN
METHOD:PUBLISH
X-PUBLISHED-TTL:P3D
REFRESH-INTERVAL:P3D
CALSCALE:GREGORIAN
BEGIN:VEVENT
DTSTART:20230324T163000Z
DTEND:20230324T170000Z
X-MICROSOFT-CDO-ALLDAYEVENT:FALSE
SUMMARY:Ribbon Cutting Wholesale Signs Plus
DESCRIPTION:Join us for an Open House and Ribbon Cutting for Wholesale Signs Plus\n\nCome tour the new facility and meet the people behind the signs!  There will be lunch and refreshments provided.
X-ALT-DESC;FMTTYPE=text/html:<p><span style="font-size:16px\;"><strong>Join us for an Open House and Ribbon Cutting for Wholesale Signs Plus</strong></span></p>\n\n<p><font color="#050505" face="Segoe UI Historic\, Segoe UI\, Helvetica\, Arial\, sans-serif"><span style="font-size: 15px\;">Come tour the new facility and meet the people behind the signs!&nbsp\; There will be lunch and refreshments provided.&nbsp\;</span></font><br />\n&nbsp\;</p>\n
LOCATION:4224 Evan Brooks Dr. Baton Rouge\, LA 70814
UID:e.1367.3104
SEQUENCE:3
DTSTAMP:20260422T123215Z
URL:https://business.cityofcentralchamber.com/events/details/ribbon-cutting-wholesale-signs-plus-3104
END:VEVENT

END:VCALENDAR
