BEGIN:VCALENDAR
VERSION:2.0
PRODID:-//ChamberMaster//Event Calendar 2.0//EN
METHOD:PUBLISH
X-PUBLISHED-TTL:P3D
REFRESH-INTERVAL:P3D
CALSCALE:GREGORIAN
BEGIN:VEVENT
DTSTART:20201119T220000Z
DTEND:20201119T230000Z
X-MICROSOFT-CDO-ALLDAYEVENT:FALSE
SUMMARY:Ribbon Cutting | Whitlow & Simmons\, LLC
DESCRIPTION:Join us for a ribbon-cutting for Whitlow & Simmons\, LLC! An open house will follow the ribbon cutting at 5 pm.
X-ALT-DESC;FMTTYPE=text/html:<span style="font-size:16px\;"><strong>Join us for a ribbon-cutting for Whitlow &amp\; Simmons\, LLC! An open house will follow the ribbon cutting at 5 pm.</strong></span><br />\n&nbsp\;
LOCATION:18564 Magnolia Bridge Road\, Suite 111 Greenwell Springs\, LA 70739
UID:e.1367.2968
SEQUENCE:3
DTSTAMP:20260424T091654Z
URL:https://business.cityofcentralchamber.com/events/details/ribbon-cutting-whitlow-simmons-llc-2968
END:VEVENT

END:VCALENDAR
