BEGIN:VCALENDAR
VERSION:2.0
PRODID:-//ChamberMaster//Event Calendar 2.0//EN
METHOD:PUBLISH
X-PUBLISHED-TTL:P3D
REFRESH-INTERVAL:P3D
CALSCALE:GREGORIAN
BEGIN:VEVENT
DTSTART:20210720T160000Z
DTEND:20210720T170000Z
X-MICROSOFT-CDO-ALLDAYEVENT:FALSE
SUMMARY:Ribbon Cutting | Treads & Care
DESCRIPTION:Join us for a ribbon-cutting to celebrate a new Central business\, Treads & Care!\n\n\n\nDid you know when you spend $100 in Central\,\n\n$2.50 (2.5%) - Supports Schools\n\n$2.00 (2%) - Supports the City\n\n$1.50 (1.5%) - Supports Infrastructure
X-ALT-DESC;FMTTYPE=text/html:<span style="font-family:arial\;"><span style="font-size:16px\;"><strong>Join us for a ribbon-cutting to celebrate a new Central business\, Treads &amp\; Care!</strong></span><br />\n<br />\n<span style="font-size:16px\;">Did you know when you spend $100 in Central\,</span><br />\n<span class="JsGRdQ" style="font-size: 16px\; font-weight: 700\; color: rgb(47\, 147\, 211)\;">$2.50</span><span class="JsGRdQ" style="font-size: 16px\; font-weight: 700\; color: rgb(243\, 48\, 97)\;"> </span><span class="JsGRdQ" style="font-size: 16px\; font-weight: 700\; color: rgb(23\, 24\, 24)\;">(2.5%) - Supports Schools</span><br />\n<span class="JsGRdQ" style="font-size: 16px\; font-weight: 700\; color: rgb(47\, 147\, 211)\;">$2.00</span><span class="JsGRdQ" style="font-size: 16px\; font-weight: 700\; color: rgb(102\, 102\, 102)\;"> </span><span class="JsGRdQ" style="font-size: 16px\; color: rgb(23\, 24\, 24)\; font-weight: 700\;">(2%) - Supports the City<br />\n<span class="JsGRdQ" style="color: rgb(47\, 147\, 211)\;">$1.50</span><span class="JsGRdQ" style="color: rgb(102\, 102\, 102)\;"> </span><span class="JsGRdQ">(1.5%) - Supports Infrastructure</span></span></span><br />\n&nbsp\;
LOCATION:11115 Park Place Dr Central\, LA 70818
UID:e.1367.2998
SEQUENCE:3
DTSTAMP:20260423T211549Z
URL:https://business.cityofcentralchamber.com/events/details/ribbon-cutting-treads-care-2998
END:VEVENT

END:VCALENDAR
