BEGIN:VCALENDAR
VERSION:2.0
PRODID:-//ChamberMaster//Event Calendar 2.0//EN
METHOD:PUBLISH
X-PUBLISHED-TTL:P3D
REFRESH-INTERVAL:P3D
CALSCALE:GREGORIAN
BEGIN:VEVENT
DTSTART:20240131T180000Z
DTEND:20240131T183000Z
X-MICROSOFT-CDO-ALLDAYEVENT:FALSE
SUMMARY:Ribbon Cutting - TLG Consulting Group
DESCRIPTION:Join us as we celebrate the Ribbon Cutting for TLG Consulting Group
X-ALT-DESC;FMTTYPE=text/html:Join us as we celebrate the Ribbon Cutting for TLG Consulting Group
LOCATION:10020 Sullivan Rd\, Central\, LA 70818
UID:e.1367.3171
SEQUENCE:3
DTSTAMP:20260421T214659Z
URL:https://business.cityofcentralchamber.com/events/details/ribbon-cutting-tlg-consulting-group-3171
END:VEVENT

END:VCALENDAR
