BEGIN:VCALENDAR
VERSION:2.0
PRODID:-//ChamberMaster//Event Calendar 2.0//EN
METHOD:PUBLISH
X-PUBLISHED-TTL:P3D
REFRESH-INTERVAL:P3D
CALSCALE:GREGORIAN
BEGIN:VEVENT
DTSTART:20201117T200000Z
DTEND:20201117T210000Z
X-MICROSOFT-CDO-ALLDAYEVENT:FALSE
SUMMARY:Ribbon Cutting | The Claiborne at Shoe Creek
DESCRIPTION:Join us for a ribbon-cutting for The Claiborne at Shoe Creek!
X-ALT-DESC;FMTTYPE=text/html:<span style="font-size:16px\;"><strong>Join us for a ribbon-cutting for The Claiborne at Shoe Creek!</strong></span><br />\n&nbsp\;
LOCATION:9750 Couret Dr. Central\, LA 70818
UID:e.1367.2966
SEQUENCE:3
DTSTAMP:20260424T091839Z
URL:https://business.cityofcentralchamber.com/events/details/ribbon-cutting-the-claiborne-at-shoe-creek-2966
END:VEVENT

END:VCALENDAR
