BEGIN:VCALENDAR
VERSION:2.0
PRODID:-//ChamberMaster//Event Calendar 2.0//EN
METHOD:PUBLISH
X-PUBLISHED-TTL:P3D
REFRESH-INTERVAL:P3D
CALSCALE:GREGORIAN
BEGIN:VEVENT
DTSTART:20200910T150000Z
DTEND:20200911T040000Z
X-MICROSOFT-CDO-ALLDAYEVENT:FALSE
SUMMARY:Ribbon Cutting | reLeaf Therapy CBD
DESCRIPTION:Join us for a ribbon cutting for reLeaf Therapy CBD!
X-ALT-DESC;FMTTYPE=text/html:<span style="font-size:16px\;"><strong>Join us for a ribbon cutting for reLeaf Therapy CBD!</strong></span><br />\n&nbsp\;
LOCATION:14790 Wax Rd Suite 105 Central\, LA 70818
UID:e.1367.2963
SEQUENCE:3
DTSTAMP:20260424T124618Z
URL:https://business.cityofcentralchamber.com/events/details/ribbon-cutting-releaf-therapy-cbd-2963
END:VEVENT

END:VCALENDAR
