BEGIN:VCALENDAR
VERSION:2.0
PRODID:-//ChamberMaster//Event Calendar 2.0//EN
METHOD:PUBLISH
X-PUBLISHED-TTL:P3D
REFRESH-INTERVAL:P3D
CALSCALE:GREGORIAN
BEGIN:VEVENT
DTSTART:20201210T160000Z
DTEND:20201210T170000Z
X-MICROSOFT-CDO-ALLDAYEVENT:FALSE
SUMMARY:Ribbon Cutting | Premier Tire & Auto
DESCRIPTION:Join us at a ribbon-cutting for Premier Tire & Auto! \n\n\n\nThere will be jambalaya!
X-ALT-DESC;FMTTYPE=text/html:<span style="font-size:16px\;"><strong>Join us at a ribbon-cutting for Premier Tire &amp\; Auto!&nbsp\;<br />\n<br />\nThere will be jambalaya!</strong></span>
LOCATION:12470 Hooper Rd Central\, LA 70818
UID:e.1367.2969
SEQUENCE:3
DTSTAMP:20260424T072828Z
URL:https://business.cityofcentralchamber.com/events/details/ribbon-cutting-premier-tire-auto-2969
END:VEVENT

END:VCALENDAR
