BEGIN:VCALENDAR
VERSION:2.0
PRODID:-//ChamberMaster//Event Calendar 2.0//EN
METHOD:PUBLISH
X-PUBLISHED-TTL:P3D
REFRESH-INTERVAL:P3D
CALSCALE:GREGORIAN
BEGIN:VEVENT
DTSTART:20231218T180000Z
DTEND:20231218T183000Z
X-MICROSOFT-CDO-ALLDAYEVENT:FALSE
SUMMARY:Ribbon Cutting - Nourish Lactation
DESCRIPTION:Join us as we celebrate the Ribbon Cutting and Grand Opening of Nourish Lactation
X-ALT-DESC;FMTTYPE=text/html:Join us as we celebrate the Ribbon Cutting and Grand Opening of Nourish Lactation&nbsp\;
LOCATION:14345 Grand Settlement Blvd Ste 2\, Baton Rouge\, LA 70818
UID:e.1367.3169
SEQUENCE:3
DTSTAMP:20260421T225718Z
URL:https://business.cityofcentralchamber.com/events/details/ribbon-cutting-nourish-lactation-3169
END:VEVENT

END:VCALENDAR
