BEGIN:VCALENDAR
VERSION:2.0
PRODID:-//ChamberMaster//Event Calendar 2.0//EN
METHOD:PUBLISH
X-PUBLISHED-TTL:P3D
REFRESH-INTERVAL:P3D
CALSCALE:GREGORIAN
BEGIN:VEVENT
DTSTART:20210526T160000Z
DTEND:20210526T170000Z
X-MICROSOFT-CDO-ALLDAYEVENT:FALSE
SUMMARY:Ribbon Cutting | Lit Pizza
DESCRIPTION:Join us for a ribbon-cutting for Lit Pizza!
X-ALT-DESC;FMTTYPE=text/html:<span style="font-size:16px\;"><strong>Join us for a ribbon-cutting for Lit Pizza!</strong></span><br />\n&nbsp\;
LOCATION:9850 Sullivan Rd Central\, LA 70818
UID:e.1367.2985
SEQUENCE:3
DTSTAMP:20260423T235039Z
URL:https://business.cityofcentralchamber.com/events/details/ribbon-cutting-lit-pizza-2985
END:VEVENT

END:VCALENDAR
