BEGIN:VCALENDAR
VERSION:2.0
PRODID:-//ChamberMaster//Event Calendar 2.0//EN
METHOD:PUBLISH
X-PUBLISHED-TTL:P3D
REFRESH-INTERVAL:P3D
CALSCALE:GREGORIAN
BEGIN:VEVENT
DTSTART:20220416T160000Z
DTEND:20220416T170000Z
X-MICROSOFT-CDO-ALLDAYEVENT:FALSE
SUMMARY:Ribbon Cutting Lews Firearms
DESCRIPTION:Join us for a ribbon-cutting for Lew's  Firearms LLC\n\nLew's would like to celebrate their Grand Opening and Ribbon Cutting with our Customers and our FFL friends. Louisiana Firearms\, Practical Tactical\, and Brothers LA Arms. Please join us for this special day. Our doors are already open but this you don't want to miss. Food\, Sales\, and Guns!
X-ALT-DESC;FMTTYPE=text/html:<p><span style="font-size:16px\;"><strong>Join us for a ribbon-cutting for </strong></span><strong><span style="font-size:16px\;">Lew&#39\;s&nbsp\;</span> <span style="font-size:16px\;">Firearms LLC</span></strong></p>\n\n<p><span style="color: rgb(5\, 5\, 5)\; font-family: &quot\;Segoe UI Historic&quot\;\, &quot\;Segoe UI&quot\;\, Helvetica\, Arial\, sans-serif\; font-size: 15px\;">Lew&#39\;s would like to celebrate their Grand Opening and Ribbon Cutting with our Customers and our FFL friends. Louisiana Firearms\, Practical Tactical\, and Brothers LA Arms. Please join us for this special day. Our doors are already open but this you don&#39\;t want to miss. Food\, Sales\, and Guns!</span><br />\n&nbsp\;</p>\n
LOCATION:13513 Hooper Road.
UID:e.1367.3063
SEQUENCE:3
DTSTAMP:20260423T055726Z
URL:https://business.cityofcentralchamber.com/events/details/ribbon-cutting-lews-firearms-3063
END:VEVENT

END:VCALENDAR
