BEGIN:VCALENDAR
VERSION:2.0
PRODID:-//ChamberMaster//Event Calendar 2.0//EN
METHOD:PUBLISH
X-PUBLISHED-TTL:P3D
REFRESH-INTERVAL:P3D
CALSCALE:GREGORIAN
BEGIN:VEVENT
DTSTART:20211015T220000Z
DTEND:20211015T230000Z
X-MICROSOFT-CDO-ALLDAYEVENT:FALSE
SUMMARY:Ribbon Cutting | Java Mama
DESCRIPTION:Join us for a ribbon-cutting and grand opening for Java Mama! RSVP here.\n\n	Menu sneak peek\n	Open play\n	First view of shop updates\n\n Java Mama launched in the spring of 2020. Join as we celebrate their regrand opening in a way we didn't get to last year. Welcome to the new and improved Java Mama!
X-ALT-DESC;FMTTYPE=text/html:<span style="font-size:16px\;"><strong>Join us for a ribbon-cutting and grand opening for Java Mama! <a href="https://www.javamamacs.com/events-2-1/regrand-opening">RSVP here.</a></strong></span>\n<ul>\n	<li><span style="font-size:16px\;">Menu sneak peek</span></li>\n	<li><span style="font-size:16px\;">Open play</span></li>\n	<li><span style="font-size:16px\;">First view of shop updates</span></li>\n</ul>\n<span style="font-size:16px\;"> Java Mama launched in the spring of 2020. Join as we celebrate their regrand opening in a way we didn&#39\;t get to last year. Welcome to the new and improved Java Mama!&nbsp\;</span>
LOCATION:Central Square 14340 Wax Rd\, Suite 101 Central\, LA 70818
UID:e.1367.3014
SEQUENCE:3
DTSTAMP:20260423T174053Z
URL:https://business.cityofcentralchamber.com/events/details/ribbon-cutting-java-mama-3014
END:VEVENT

END:VCALENDAR
