BEGIN:VCALENDAR
VERSION:2.0
PRODID:-//ChamberMaster//Event Calendar 2.0//EN
METHOD:PUBLISH
X-PUBLISHED-TTL:P3D
REFRESH-INTERVAL:P3D
CALSCALE:GREGORIAN
BEGIN:VEVENT
DTSTART:20220713T163000Z
DTEND:20220713T170000Z
X-MICROSOFT-CDO-ALLDAYEVENT:FALSE
SUMMARY:Ribbon Cutting | Jackson Park
DESCRIPTION:Join us in an advance Membership Meeting on July 13 to celebrate the re-opening of Jackson Park!\n\n \n12250 Sullivan Rd\n\nCentral\, LA 70818
X-ALT-DESC;FMTTYPE=text/html:<span style="font-size:16px\;"><strong>Join us in an advance Membership Meeting on July 13 to celebrate the re-opening of Jackson Park!</strong></span><br />\n&nbsp\;\n<h1 class="section-hero-header-title-title GLOBAL__gm2-headline-5" color:="" google="" jsan="7.section-hero-header-title-title\,7.GLOBAL__gm2-headline-5" jstcache="134" list-style:="" margin:="" outline:="" overflow:="" padding:="" style="line-height: 1.75rem\; background-image: initial\; background-position: initial\; background-size: initial\; background-repeat: initial\; background-attachment: initial\; background-origin: initial\; background-clip: initial\; border: 0px\; border-radius: 0px\; font-variant-numeric: inherit\; font-variant-east-asian: inherit\; font-stretch: inherit\; font-size: 1.375rem\; text-align: center\;" vertical-align:=""><span style="font-family: arial\;"><span style="font-size: 16px\;">12250 Sullivan Rd<br />\nCentral\, LA 70818</span></span></h1>\n
LOCATION:Jackson Park 12250 Sullivan Rd Central\, LA 70818
UID:e.1367.3053
SEQUENCE:3
DTSTAMP:20260423T015328Z
URL:https://business.cityofcentralchamber.com/events/details/ribbon-cutting-jackson-park-3053
END:VEVENT

END:VCALENDAR
