BEGIN:VCALENDAR
VERSION:2.0
PRODID:-//ChamberMaster//Event Calendar 2.0//EN
METHOD:PUBLISH
X-PUBLISHED-TTL:P3D
REFRESH-INTERVAL:P3D
CALSCALE:GREGORIAN
BEGIN:VEVENT
DTSTART:20240123T160000Z
DTEND:20240123T163000Z
X-MICROSOFT-CDO-ALLDAYEVENT:FALSE
SUMMARY:Ribbon Cutting - Izzo's Illegal Burrito
DESCRIPTION:Join us as we celebrate the Ribbon Cutting for Izzo's Illegal Burrito
X-ALT-DESC;FMTTYPE=text/html:Join us as we celebrate the Ribbon Cutting for Izzo&#39\;s Illegal Burrito
LOCATION:9950 Sullivan Rd suite b\, Baton Rouge\, LA 70818
UID:e.1367.3170
SEQUENCE:3
DTSTAMP:20260421T214738Z
URL:https://business.cityofcentralchamber.com/events/details/ribbon-cutting-izzo-s-illegal-burrito-3170
END:VEVENT

END:VCALENDAR
