BEGIN:VCALENDAR
VERSION:2.0
PRODID:-//ChamberMaster//Event Calendar 2.0//EN
METHOD:PUBLISH
X-PUBLISHED-TTL:P3D
REFRESH-INTERVAL:P3D
CALSCALE:GREGORIAN
BEGIN:VEVENT
DTSTART:20240718T173000Z
DTEND:20240718T190000Z
X-MICROSOFT-CDO-ALLDAYEVENT:FALSE
SUMMARY:Ribbon Cutting & Grand Opening - Zilantro's
DESCRIPTION:Join us Thursday\, July 18th at 12:30 PM to celebrate Zilantro's Ribbon Cutting and Grand Opening!
X-ALT-DESC;FMTTYPE=text/html:<span style="font-size:18px\;"><strong>Join us Thursday\, July 18th at 12:30 PM to celebrate Zilantro&#39\;s Ribbon Cutting and Grand Opening!</strong></span>
LOCATION:14455 Wax Road Suite F
UID:e.1367.3197
SEQUENCE:3
DTSTAMP:20260421T070127Z
URL:https://business.cityofcentralchamber.com/events/details/ribbon-cutting-grand-opening-zilantro-s-3197
END:VEVENT

END:VCALENDAR
