BEGIN:VCALENDAR
VERSION:2.0
PRODID:-//ChamberMaster//Event Calendar 2.0//EN
METHOD:PUBLISH
X-PUBLISHED-TTL:P3D
REFRESH-INTERVAL:P3D
CALSCALE:GREGORIAN
BEGIN:VEVENT
DTSTART:20190223T180000Z
DTEND:20190223T190000Z
X-MICROSOFT-CDO-ALLDAYEVENT:FALSE
SUMMARY:Ribbon Cutting for Frugal
DESCRIPTION:Ribbon Cutting for Frugal
X-ALT-DESC;FMTTYPE=text/html:Ribbon Cutting for Frugal&nbsp\;&nbsp\;&nbsp\;&nbsp\;
LOCATION:13421 Hooper Rd Ste 1
UID:e.1367.2707
SEQUENCE:3
DTSTAMP:20260425T173838Z
URL:https://business.cityofcentralchamber.com/events/details/ribbon-cutting-for-frugal-2707
END:VEVENT

END:VCALENDAR
