BEGIN:VCALENDAR
VERSION:2.0
PRODID:-//ChamberMaster//Event Calendar 2.0//EN
METHOD:PUBLISH
X-PUBLISHED-TTL:P3D
REFRESH-INTERVAL:P3D
CALSCALE:GREGORIAN
BEGIN:VEVENT
DTSTART:20241115T180000Z
DTEND:20241115T183000Z
X-MICROSOFT-CDO-ALLDAYEVENT:FALSE
SUMMARY:Ribbon Cutting- Flower That Blooms Marketing and Analytics Agency
DESCRIPTION:We're thrilled to welcome Flower That Blooms Marketing and Analytics Agency to our community! Join us in celebrating the Ribbon Cutting of this boutique digital marketing agency led by Ashton Galbo. Ashton is a wife\, mom\, and entrepreneur with a dream to help local businesses thrive.\n\n  Flower That Blooms offers customized solutions to meet each client's unique marketing needs from website management and analysis to social media strategy and advertising bids. Ashton's mission is clear: to boost visibility and success for small businesses in our area!\n\n  Come show your support and learn more about how Flower That Blooms can help your business grow. We can't wait to see you there!
X-ALT-DESC;FMTTYPE=text/html:<p><span style="font-size:18px\;">We&rsquo\;re thrilled to welcome <strong>Flower That Blooms Marketing and Analytics Agency</strong> to our community! Join us in celebrating the Ribbon Cutting of this boutique digital marketing agency led by Ashton Galbo. Ashton is a wife\, mom\, and entrepreneur with a dream to help local businesses thrive.</span></p>\n\n<p><span style="font-size:18px\;">&#128202\; Flower That Blooms offers customized solutions to meet each client&rsquo\;s unique marketing needs&mdash\;from website management and analysis to social media strategy and advertising bids. Ashton&rsquo\;s mission is clear: to boost visibility and success for small businesses in our area!</span></p>\n\n<p><span style="font-size:18px\;">&#127881\; Come show your support and learn more about how Flower That Blooms can help your business grow. We can&rsquo\;t wait to see you there!</span></p>\n
LOCATION:Location: City of Central Chamber of Commerce Office 12416 Hooper Road Central\, LA 70818.
UID:e.1367.3209
SEQUENCE:3
DTSTAMP:20260421T003230Z
URL:https://business.cityofcentralchamber.com/events/details/ribbon-cutting-flower-that-blooms-marketing-and-analytics-agency-3209
END:VEVENT

END:VCALENDAR
