BEGIN:VCALENDAR
VERSION:2.0
PRODID:-//ChamberMaster//Event Calendar 2.0//EN
METHOD:PUBLISH
X-PUBLISHED-TTL:P3D
REFRESH-INTERVAL:P3D
CALSCALE:GREGORIAN
BEGIN:VEVENT
DTSTART:20200821T170000Z
DTEND:20200821T180000Z
X-MICROSOFT-CDO-ALLDAYEVENT:FALSE
SUMMARY:Ribbon Cutting | Ethos Human Performance
DESCRIPTION:Grand Opening and Ribbon Cutting for Ethos Human Performance & Physical Therapy.\n\n\n\nJoin us for a ribbon-cutting ceremony at noon.\n\n\n\nFree fitness classes will be offered throughout the day.\n\n\n\nCome by from 4 to 6 pm when a Cuban food truck will be stopping by!
X-ALT-DESC;FMTTYPE=text/html:<span style="font-size:16px\;"><strong>Grand Opening and Ribbon Cutting for Ethos Human Performance &amp\; Physical Therapy.</strong><br />\n<br />\n<span style="font-size:14px\;">Join us for a ribbon-cutting ceremony at noon.<br />\n<br />\nFree fitness classes will be offered throughout the day.</span></span><br />\n<br />\n<span style="font-size:14px\;">Come by from 4 to 6 pm when a Cuban food truck will be stopping by!</span>
LOCATION:10440 Hooper Rd Baton Rouge\, LA 70718
UID:e.1367.2961
SEQUENCE:3
DTSTAMP:20260424T142605Z
URL:https://business.cityofcentralchamber.com/events/details/ribbon-cutting-ethos-human-performance-2961
END:VEVENT

END:VCALENDAR
