BEGIN:VCALENDAR
VERSION:2.0
PRODID:-//ChamberMaster//Event Calendar 2.0//EN
METHOD:PUBLISH
X-PUBLISHED-TTL:P3D
REFRESH-INTERVAL:P3D
CALSCALE:GREGORIAN
BEGIN:VEVENT
DTSTART:20210917T160000Z
DTEND:20210917T170000Z
X-MICROSOFT-CDO-ALLDAYEVENT:FALSE
SUMMARY:Ribbon Cutting | Christian's Creamery
DESCRIPTION:Join us for a ribbon-cutting to celebrate Christian's Creamery!
X-ALT-DESC;FMTTYPE=text/html:<span style="font-size:16px\;"><strong>Join us for a ribbon-cutting to celebrate Christian&#39\;s Creamery!&nbsp\;</strong></span>
LOCATION:14350 Wax Rd\, Suite 107 Central\, LA 70818
UID:e.1367.3005
SEQUENCE:3
DTSTAMP:20260423T185717Z
URL:https://business.cityofcentralchamber.com/events/details/ribbon-cutting-christian-s-creamery-3005
END:VEVENT

END:VCALENDAR
