BEGIN:VCALENDAR
VERSION:2.0
PRODID:-//ChamberMaster//Event Calendar 2.0//EN
METHOD:PUBLISH
X-PUBLISHED-TTL:P3D
REFRESH-INTERVAL:P3D
CALSCALE:GREGORIAN
BEGIN:VEVENT
DTSTART:20210604T170000Z
DTEND:20210604T180000Z
X-MICROSOFT-CDO-ALLDAYEVENT:FALSE
SUMMARY:Ribbon Cutting | Cheeky Monkey's
DESCRIPTION:Join us for a ribbon-cutting to celebrate Cheeky Monkey's first anniversary!
X-ALT-DESC;FMTTYPE=text/html:<span style="font-size:16px\;"><strong>Join us for a ribbon-cutting to celebrate Cheeky Monkey&#39\;s first anniversary!&nbsp\;</strong></span>
LOCATION:11111 Park Place Dr\, Suite A Central\, LA 70818
UID:e.1367.2986
SEQUENCE:3
DTSTAMP:20260423T223150Z
URL:https://business.cityofcentralchamber.com/events/details/ribbon-cutting-cheeky-monkey-s-2986
END:VEVENT

END:VCALENDAR
