BEGIN:VCALENDAR
VERSION:2.0
PRODID:-//ChamberMaster//Event Calendar 2.0//EN
METHOD:PUBLISH
X-PUBLISHED-TTL:P3D
REFRESH-INTERVAL:P3D
CALSCALE:GREGORIAN
BEGIN:VEVENT
DTSTART:20240329T170000Z
DTEND:20240329T173000Z
X-MICROSOFT-CDO-ALLDAYEVENT:FALSE
SUMMARY:Ribbon Cutting - Central Mercantile
DESCRIPTION:Join us as we celebrate the Ribbon Cutting for Central Mercantile.
X-ALT-DESC;FMTTYPE=text/html:Join us as we celebrate the Ribbon Cutting for Central Mercantile.
LOCATION:13366 Hooper Road\, Suite A\, Central\, LA 70818
UID:e.1367.3180
SEQUENCE:3
DTSTAMP:20260421T162345Z
URL:https://business.cityofcentralchamber.com/events/details/ribbon-cutting-central-mercantile-3180
END:VEVENT

END:VCALENDAR
