BEGIN:VCALENDAR
VERSION:2.0
PRODID:-//ChamberMaster//Event Calendar 2.0//EN
METHOD:PUBLISH
X-PUBLISHED-TTL:P3D
REFRESH-INTERVAL:P3D
CALSCALE:GREGORIAN
BEGIN:VEVENT
DTSTART:20200606T150000Z
DTEND:20200606T170000Z
X-MICROSOFT-CDO-ALLDAYEVENT:FALSE
SUMMARY:Ribbon Cutting | Central City Antiques
DESCRIPTION:Ribbon Cutting for\n\nCentral City Antiques\n\n\n\nJoin us as we celebrate a new location for Central City Antiques. There will be refreshments and lots of smiles.
X-ALT-DESC;FMTTYPE=text/html:<span style="font-size:14px\;">Ribbon Cutting for<br />\nCentral City Antiques<br />\n<br />\nJoin us as we celebrate a new location for Central City Antiques. There will be refreshments and lots of smiles.</span>
LOCATION:8849 Sullivan Rd Baton Rouge\, LA 70818
UID:e.1367.2955
SEQUENCE:3
DTSTAMP:20260424T191450Z
URL:https://business.cityofcentralchamber.com/events/details/ribbon-cutting-central-city-antiques-2955
END:VEVENT

END:VCALENDAR
